BEGIN:VCALENDAR
VERSION:2.0
PRODID:-//Grange Community Nursery and Primary School - ECPv6.15.20//NONSGML v1.0//EN
CALSCALE:GREGORIAN
METHOD:PUBLISH
X-ORIGINAL-URL:https://grange-pri.cheshire.sch.uk
X-WR-CALDESC:Events for Grange Community Nursery and Primary School
REFRESH-INTERVAL;VALUE=DURATION:PT1H
X-Robots-Tag:noindex
X-PUBLISHED-TTL:PT1H
BEGIN:VTIMEZONE
TZID:UTC
BEGIN:STANDARD
TZOFFSETFROM:+0000
TZOFFSETTO:+0000
TZNAME:UTC
DTSTART:20210101T000000
END:STANDARD
END:VTIMEZONE
BEGIN:VEVENT
DTSTART;TZID=UTC:20220214T083000
DTEND;TZID=UTC:20220218T153000
DTSTAMP:20260424T171702
CREATED:20210929T174727Z
LAST-MODIFIED:20210929T174727Z
UID:10420-1644827400-1645198200@grange-pri.cheshire.sch.uk
SUMMARY:Kindness Week
DESCRIPTION:
URL:https://grange-pri.cheshire.sch.uk/event/kindness-week/
END:VEVENT
BEGIN:VEVENT
DTSTART;TZID=UTC:20220218T153000
DTEND;TZID=UTC:20220218T153000
DTSTAMP:20260424T171702
CREATED:20210929T174907Z
LAST-MODIFIED:20210929T180736Z
UID:10422-1645198200-1645198200@grange-pri.cheshire.sch.uk
SUMMARY:School closes for Half Term
DESCRIPTION:
URL:https://grange-pri.cheshire.sch.uk/event/school-closes-for-half-term-2/
END:VEVENT
END:VCALENDAR