BEGIN:VCALENDAR
VERSION:2.0
PRODID:-//Grange Community Nursery and Primary School - ECPv6.15.20//NONSGML v1.0//EN
CALSCALE:GREGORIAN
METHOD:PUBLISH
X-ORIGINAL-URL:https://grange-pri.cheshire.sch.uk
X-WR-CALDESC:Events for Grange Community Nursery and Primary School
REFRESH-INTERVAL;VALUE=DURATION:PT1H
X-Robots-Tag:noindex
X-PUBLISHED-TTL:PT1H
BEGIN:VTIMEZONE
TZID:UTC
BEGIN:STANDARD
TZOFFSETFROM:+0000
TZOFFSETTO:+0000
TZNAME:UTC
DTSTART:20210101T000000
END:STANDARD
END:VTIMEZONE
BEGIN:VEVENT
DTSTART;VALUE=DATE:20220516
DTEND;VALUE=DATE:20220521
DTSTAMP:20260424T120841
CREATED:20220223T161449Z
LAST-MODIFIED:20220223T161449Z
UID:11087-1652659200-1653091199@grange-pri.cheshire.sch.uk
SUMMARY:Walk to school week
DESCRIPTION:
URL:https://grange-pri.cheshire.sch.uk/event/walk-to-school-week-2/
END:VEVENT
BEGIN:VEVENT
DTSTART;VALUE=DATE:20220519
DTEND;VALUE=DATE:20220520
DTSTAMP:20260424T120841
CREATED:20220223T161542Z
LAST-MODIFIED:20220223T161542Z
UID:11091-1652918400-1653004799@grange-pri.cheshire.sch.uk
SUMMARY:National numeracy day
DESCRIPTION:
URL:https://grange-pri.cheshire.sch.uk/event/national-numeracy-day/
END:VEVENT
BEGIN:VEVENT
DTSTART;VALUE=DATE:20220519
DTEND;VALUE=DATE:20220520
DTSTAMP:20260424T120841
CREATED:20220515T080545Z
LAST-MODIFIED:20220515T080545Z
UID:11256-1652918400-1653004799@grange-pri.cheshire.sch.uk
SUMMARY:Year 4 trip - World Museum
DESCRIPTION:
URL:https://grange-pri.cheshire.sch.uk/event/year-4-trip-world-museum/
END:VEVENT
END:VCALENDAR