BEGIN:VCALENDAR
VERSION:2.0
PRODID:-//Grange Community Nursery and Primary School - ECPv6.15.20//NONSGML v1.0//EN
CALSCALE:GREGORIAN
METHOD:PUBLISH
X-WR-CALNAME:Grange Community Nursery and Primary School
X-ORIGINAL-URL:https://grange-pri.cheshire.sch.uk
X-WR-CALDESC:Events for Grange Community Nursery and Primary School
REFRESH-INTERVAL;VALUE=DURATION:PT1H
X-Robots-Tag:noindex
X-PUBLISHED-TTL:PT1H
BEGIN:VTIMEZONE
TZID:UTC
BEGIN:STANDARD
TZOFFSETFROM:+0000
TZOFFSETTO:+0000
TZNAME:UTC
DTSTART:20210101T000000
END:STANDARD
END:VTIMEZONE
BEGIN:VEVENT
DTSTART;TZID=UTC:20220708T153000
DTEND;TZID=UTC:20220708T170000
DTSTAMP:20260424T084944
CREATED:20220515T081513Z
LAST-MODIFIED:20220515T081513Z
UID:11275-1657294200-1657299600@grange-pri.cheshire.sch.uk
SUMMARY:Grange Summer Fair
DESCRIPTION:
URL:https://grange-pri.cheshire.sch.uk/event/grange-summer-fair-2/
END:VEVENT
END:VCALENDAR