BEGIN:VCALENDAR
VERSION:2.0
PRODID:-//Grange Community Nursery and Primary School - ECPv6.15.20//NONSGML v1.0//EN
CALSCALE:GREGORIAN
METHOD:PUBLISH
X-WR-CALNAME:Grange Community Nursery and Primary School
X-ORIGINAL-URL:https://grange-pri.cheshire.sch.uk
X-WR-CALDESC:Events for Grange Community Nursery and Primary School
REFRESH-INTERVAL;VALUE=DURATION:PT1H
X-Robots-Tag:noindex
X-PUBLISHED-TTL:PT1H
BEGIN:VTIMEZONE
TZID:UTC
BEGIN:STANDARD
TZOFFSETFROM:+0000
TZOFFSETTO:+0000
TZNAME:UTC
DTSTART:20210101T000000
END:STANDARD
END:VTIMEZONE
BEGIN:VEVENT
DTSTART;TZID=UTC:20221021T080000
DTEND;TZID=UTC:20221021T170000
DTSTAMP:20260424T031716
CREATED:20221015T184504Z
LAST-MODIFIED:20221015T184504Z
UID:11672-1666339200-1666371600@grange-pri.cheshire.sch.uk
SUMMARY:School Closes- Half Term
DESCRIPTION:
URL:https://grange-pri.cheshire.sch.uk/event/school-closes-half-term/
END:VEVENT
END:VCALENDAR