BEGIN:VCALENDAR
VERSION:2.0
PRODID:-//Grange Community Nursery and Primary School - ECPv6.15.20//NONSGML v1.0//EN
CALSCALE:GREGORIAN
METHOD:PUBLISH
X-WR-CALNAME:Grange Community Nursery and Primary School
X-ORIGINAL-URL:https://grange-pri.cheshire.sch.uk
X-WR-CALDESC:Events for Grange Community Nursery and Primary School
REFRESH-INTERVAL;VALUE=DURATION:PT1H
X-Robots-Tag:noindex
X-PUBLISHED-TTL:PT1H
BEGIN:VTIMEZONE
TZID:UTC
BEGIN:STANDARD
TZOFFSETFROM:+0000
TZOFFSETTO:+0000
TZNAME:UTC
DTSTART:20220101T000000
END:STANDARD
END:VTIMEZONE
BEGIN:VEVENT
DTSTART;TZID=UTC:20230206T080000
DTEND;TZID=UTC:20230212T200000
DTSTAMP:20260422T110455
CREATED:20221015T191514Z
LAST-MODIFIED:20221015T191514Z
UID:11716-1675670400-1676232000@grange-pri.cheshire.sch.uk
SUMMARY:Children's Mental Health Week
DESCRIPTION:
URL:https://grange-pri.cheshire.sch.uk/event/childrens-mental-health-week/
END:VEVENT
END:VCALENDAR