BEGIN:VCALENDAR
VERSION:2.0
PRODID:-//Grange Community Nursery and Primary School - ECPv6.15.20//NONSGML v1.0//EN
CALSCALE:GREGORIAN
METHOD:PUBLISH
X-ORIGINAL-URL:https://grange-pri.cheshire.sch.uk
X-WR-CALDESC:Events for Grange Community Nursery and Primary School
REFRESH-INTERVAL;VALUE=DURATION:PT1H
X-Robots-Tag:noindex
X-PUBLISHED-TTL:PT1H
BEGIN:VTIMEZONE
TZID:UTC
BEGIN:STANDARD
TZOFFSETFROM:+0000
TZOFFSETTO:+0000
TZNAME:UTC
DTSTART:20220101T000000
END:STANDARD
END:VTIMEZONE
BEGIN:VEVENT
DTSTART;TZID=UTC:20230607T091500
DTEND;TZID=UTC:20230607T111500
DTSTAMP:20260422T050123
CREATED:20230606T071404Z
LAST-MODIFIED:20230606T071404Z
UID:12660-1686129300-1686136500@grange-pri.cheshire.sch.uk
SUMMARY:Youth Connect
DESCRIPTION:
URL:https://grange-pri.cheshire.sch.uk/event/youth-connect/2023-06-07/
END:VEVENT
END:VCALENDAR