BEGIN:VCALENDAR
VERSION:2.0
PRODID:-//Grange Community Nursery and Primary School - ECPv6.15.20//NONSGML v1.0//EN
CALSCALE:GREGORIAN
METHOD:PUBLISH
X-ORIGINAL-URL:https://grange-pri.cheshire.sch.uk
X-WR-CALDESC:Events for Grange Community Nursery and Primary School
REFRESH-INTERVAL;VALUE=DURATION:PT1H
X-Robots-Tag:noindex
X-PUBLISHED-TTL:PT1H
BEGIN:VTIMEZONE
TZID:UTC
BEGIN:STANDARD
TZOFFSETFROM:+0000
TZOFFSETTO:+0000
TZNAME:UTC
DTSTART:20220101T000000
END:STANDARD
END:VTIMEZONE
BEGIN:VEVENT
DTSTART;VALUE=DATE:20230707
DTEND;VALUE=DATE:20230708
DTSTAMP:20260422T050121
CREATED:20230516T071227Z
LAST-MODIFIED:20230516T071227Z
UID:12612-1688688000-1688774399@grange-pri.cheshire.sch.uk
SUMMARY:N/Rec/Year 1 - Trip to the beach
DESCRIPTION:
URL:https://grange-pri.cheshire.sch.uk/event/n-rec-year-1-trip-to-the-beach/
END:VEVENT
BEGIN:VEVENT
DTSTART;TZID=UTC:20230707T153000
DTEND;TZID=UTC:20230707T170000
DTSTAMP:20260422T050121
CREATED:20221015T193409Z
LAST-MODIFIED:20221015T193409Z
UID:11752-1688743800-1688749200@grange-pri.cheshire.sch.uk
SUMMARY:Summer Fayre
DESCRIPTION:
URL:https://grange-pri.cheshire.sch.uk/event/summer-fayre-2/
END:VEVENT
END:VCALENDAR