BEGIN:VCALENDAR
VERSION:2.0
PRODID:-//Grange Community Nursery and Primary School - ECPv6.15.20//NONSGML v1.0//EN
CALSCALE:GREGORIAN
METHOD:PUBLISH
X-ORIGINAL-URL:https://grange-pri.cheshire.sch.uk
X-WR-CALDESC:Events for Grange Community Nursery and Primary School
REFRESH-INTERVAL;VALUE=DURATION:PT1H
X-Robots-Tag:noindex
X-PUBLISHED-TTL:PT1H
BEGIN:VTIMEZONE
TZID:UTC
BEGIN:STANDARD
TZOFFSETFROM:+0000
TZOFFSETTO:+0000
TZNAME:UTC
DTSTART:20220101T000000
END:STANDARD
END:VTIMEZONE
BEGIN:VEVENT
DTSTART;TZID=UTC:20231106T083000
DTEND;TZID=UTC:20231106T151500
DTSTAMP:20260422T010238
CREATED:20230905T112233Z
LAST-MODIFIED:20230905T112233Z
UID:12929-1699259400-1699283700@grange-pri.cheshire.sch.uk
SUMMARY:Return to School
DESCRIPTION:
URL:https://grange-pri.cheshire.sch.uk/event/return-to-school-9/
END:VEVENT
END:VCALENDAR