BEGIN:VCALENDAR
VERSION:2.0
PRODID:-//Grange Community Nursery and Primary School - ECPv6.15.20//NONSGML v1.0//EN
CALSCALE:GREGORIAN
METHOD:PUBLISH
X-ORIGINAL-URL:https://grange-pri.cheshire.sch.uk
X-WR-CALDESC:Events for Grange Community Nursery and Primary School
REFRESH-INTERVAL;VALUE=DURATION:PT1H
X-Robots-Tag:noindex
X-PUBLISHED-TTL:PT1H
BEGIN:VTIMEZONE
TZID:UTC
BEGIN:STANDARD
TZOFFSETFROM:+0000
TZOFFSETTO:+0000
TZNAME:UTC
DTSTART:20220101T000000
END:STANDARD
END:VTIMEZONE
BEGIN:VEVENT
DTSTART;VALUE=DATE:20231109
DTEND;VALUE=DATE:20231110
DTSTAMP:20260421T225711
CREATED:20230905T112434Z
LAST-MODIFIED:20230905T112434Z
UID:12933-1699488000-1699574399@grange-pri.cheshire.sch.uk
SUMMARY:EYFS Open Morning
DESCRIPTION:
URL:https://grange-pri.cheshire.sch.uk/event/eyfs-open-morning/
END:VEVENT
BEGIN:VEVENT
DTSTART;VALUE=DATE:20231109
DTEND;VALUE=DATE:20231110
DTSTAMP:20260421T225711
CREATED:20231109T210329Z
LAST-MODIFIED:20231109T210329Z
UID:13323-1699488000-1699574399@grange-pri.cheshire.sch.uk
SUMMARY:Christmas Carol Pantomine
DESCRIPTION:
URL:https://grange-pri.cheshire.sch.uk/event/christmas-carol-pantomine/
END:VEVENT
END:VCALENDAR