BEGIN:VCALENDAR
VERSION:2.0
PRODID:-//Grange Community Nursery and Primary School - ECPv6.15.20//NONSGML v1.0//EN
CALSCALE:GREGORIAN
METHOD:PUBLISH
X-ORIGINAL-URL:https://grange-pri.cheshire.sch.uk
X-WR-CALDESC:Events for Grange Community Nursery and Primary School
REFRESH-INTERVAL;VALUE=DURATION:PT1H
X-Robots-Tag:noindex
X-PUBLISHED-TTL:PT1H
BEGIN:VTIMEZONE
TZID:UTC
BEGIN:STANDARD
TZOFFSETFROM:+0000
TZOFFSETTO:+0000
TZNAME:UTC
DTSTART:20240101T000000
END:STANDARD
END:VTIMEZONE
BEGIN:VEVENT
DTSTART;VALUE=DATE:20250213
DTEND;VALUE=DATE:20250214
DTSTAMP:20260420T072701
CREATED:20240907T073731Z
LAST-MODIFIED:20240907T073731Z
UID:14473-1739404800-1739491199@grange-pri.cheshire.sch.uk
SUMMARY:Valentines Disco and social gathering for parents
DESCRIPTION:
URL:https://grange-pri.cheshire.sch.uk/event/valentines-disco-and-social-gathering-for-parents/
END:VEVENT
END:VCALENDAR