BEGIN:VCALENDAR
VERSION:2.0
PRODID:-//Grange Community Nursery and Primary School - ECPv6.15.20//NONSGML v1.0//EN
CALSCALE:GREGORIAN
METHOD:PUBLISH
X-ORIGINAL-URL:https://grange-pri.cheshire.sch.uk
X-WR-CALDESC:Events for Grange Community Nursery and Primary School
REFRESH-INTERVAL;VALUE=DURATION:PT1H
X-Robots-Tag:noindex
X-PUBLISHED-TTL:PT1H
BEGIN:VTIMEZONE
TZID:UTC
BEGIN:STANDARD
TZOFFSETFROM:+0000
TZOFFSETTO:+0000
TZNAME:UTC
DTSTART:20200101T000000
END:STANDARD
END:VTIMEZONE
BEGIN:VEVENT
DTSTART;TZID=UTC:20210927T080000
DTEND;TZID=UTC:20211001T170000
DTSTAMP:20260424T224111
CREATED:20210919T102020Z
LAST-MODIFIED:20210919T102020Z
UID:10359-1632729600-1633107600@grange-pri.cheshire.sch.uk
SUMMARY:Bike to school week
DESCRIPTION:
URL:https://grange-pri.cheshire.sch.uk/event/bike-to-school-week/
END:VEVENT
BEGIN:VEVENT
DTSTART;TZID=UTC:20211001T080000
DTEND;TZID=UTC:20211001T170000
DTSTAMP:20260424T224111
CREATED:20210919T102119Z
LAST-MODIFIED:20210919T102119Z
UID:10361-1633075200-1633107600@grange-pri.cheshire.sch.uk
SUMMARY:National Poetry Day
DESCRIPTION:
URL:https://grange-pri.cheshire.sch.uk/event/national-poetry-day-2/
END:VEVENT
BEGIN:VEVENT
DTSTART;TZID=UTC:20211005T080000
DTEND;TZID=UTC:20211005T170000
DTSTAMP:20260424T224111
CREATED:20210919T102512Z
LAST-MODIFIED:20210919T102512Z
UID:10367-1633420800-1633453200@grange-pri.cheshire.sch.uk
SUMMARY:Guy Fawkes Night
DESCRIPTION:
URL:https://grange-pri.cheshire.sch.uk/event/guy-fawkes-night/
END:VEVENT
BEGIN:VEVENT
DTSTART;TZID=UTC:20211006T080000
DTEND;TZID=UTC:20211006T170000
DTSTAMP:20260424T224111
CREATED:20210919T102259Z
LAST-MODIFIED:20210919T102259Z
UID:10363-1633507200-1633539600@grange-pri.cheshire.sch.uk
SUMMARY:Walk to school day
DESCRIPTION:
URL:https://grange-pri.cheshire.sch.uk/event/walk-to-school-day-2/
END:VEVENT
BEGIN:VEVENT
DTSTART;TZID=UTC:20211022T080000
DTEND;TZID=UTC:20211022T170000
DTSTAMP:20260424T224111
CREATED:20210919T102352Z
LAST-MODIFIED:20210919T102352Z
UID:10365-1634889600-1634922000@grange-pri.cheshire.sch.uk
SUMMARY:School closes for Half Term
DESCRIPTION:
URL:https://grange-pri.cheshire.sch.uk/event/school-closes-for-half-term/
END:VEVENT
END:VCALENDAR