BEGIN:VCALENDAR
VERSION:2.0
PRODID:-//Grange Community Nursery and Primary School - ECPv6.15.20//NONSGML v1.0//EN
CALSCALE:GREGORIAN
METHOD:PUBLISH
X-ORIGINAL-URL:https://grange-pri.cheshire.sch.uk
X-WR-CALDESC:Events for Grange Community Nursery and Primary School
REFRESH-INTERVAL;VALUE=DURATION:PT1H
X-Robots-Tag:noindex
X-PUBLISHED-TTL:PT1H
BEGIN:VTIMEZONE
TZID:UTC
BEGIN:STANDARD
TZOFFSETFROM:+0000
TZOFFSETTO:+0000
TZNAME:UTC
DTSTART:20200101T000000
END:STANDARD
END:VTIMEZONE
BEGIN:VEVENT
DTSTART;TZID=UTC:20211102T153000
DTEND;TZID=UTC:20211102T183000
DTSTAMP:20260424T204803
CREATED:20211103T164055Z
LAST-MODIFIED:20211103T164055Z
UID:10499-1635867000-1635877800@grange-pri.cheshire.sch.uk
SUMMARY:Parents Evening - Meeting with the teacher
DESCRIPTION:
URL:https://grange-pri.cheshire.sch.uk/event/parents-evening-meeting-with-the-teacher/
END:VEVENT
BEGIN:VEVENT
DTSTART;TZID=UTC:20211103T153000
DTEND;TZID=UTC:20211103T183000
DTSTAMP:20260424T204803
CREATED:20211103T164237Z
LAST-MODIFIED:20211103T164237Z
UID:10501-1635953400-1635964200@grange-pri.cheshire.sch.uk
SUMMARY:Parents Evening via telephone
DESCRIPTION:
URL:https://grange-pri.cheshire.sch.uk/event/parents-evening-via-telephone/
END:VEVENT
BEGIN:VEVENT
DTSTART;TZID=UTC:20211110T080000
DTEND;TZID=UTC:20211110T170000
DTSTAMP:20260424T204803
CREATED:20210919T102614Z
LAST-MODIFIED:20210919T102614Z
UID:10369-1636531200-1636563600@grange-pri.cheshire.sch.uk
SUMMARY:World Science Day
DESCRIPTION:
URL:https://grange-pri.cheshire.sch.uk/event/world-science-day-2/
END:VEVENT
BEGIN:VEVENT
DTSTART;TZID=UTC:20211111T110000
DTEND;TZID=UTC:20211111T170000
DTSTAMP:20260424T204803
CREATED:20210919T102808Z
LAST-MODIFIED:20210919T102808Z
UID:10371-1636628400-1636650000@grange-pri.cheshire.sch.uk
SUMMARY:Remembrance Day
DESCRIPTION:
URL:https://grange-pri.cheshire.sch.uk/event/remembrance-day/
END:VEVENT
BEGIN:VEVENT
DTSTART;TZID=UTC:20211112T090000
DTEND;TZID=UTC:20211112T093000
DTSTAMP:20260424T204803
CREATED:20210919T102917Z
LAST-MODIFIED:20210919T102917Z
UID:10373-1636707600-1636709400@grange-pri.cheshire.sch.uk
SUMMARY:Harvest Festival
DESCRIPTION:
URL:https://grange-pri.cheshire.sch.uk/event/harvest-festival-3/
END:VEVENT
BEGIN:VEVENT
DTSTART;TZID=UTC:20211115T080000
DTEND;TZID=UTC:20211119T170000
DTSTAMP:20260424T204803
CREATED:20210919T103047Z
LAST-MODIFIED:20210919T103047Z
UID:10375-1636963200-1637341200@grange-pri.cheshire.sch.uk
SUMMARY:Road Safety and Anti-Bullying Week
DESCRIPTION:
URL:https://grange-pri.cheshire.sch.uk/event/road-safety-and-anti-bullying-week/
END:VEVENT
BEGIN:VEVENT
DTSTART;VALUE=DATE:20211118
DTEND;VALUE=DATE:20211119
DTSTAMP:20260424T204803
CREATED:20211114T180532Z
LAST-MODIFIED:20211114T180532Z
UID:10549-1637193600-1637279999@grange-pri.cheshire.sch.uk
SUMMARY:Odd Socks Day
DESCRIPTION:
URL:https://grange-pri.cheshire.sch.uk/event/odd-socks-day-2/
END:VEVENT
BEGIN:VEVENT
DTSTART;VALUE=DATE:20211119
DTEND;VALUE=DATE:20211120
DTSTAMP:20260424T204803
CREATED:20210929T171658Z
LAST-MODIFIED:20211103T163628Z
UID:10388-1637280000-1637366399@grange-pri.cheshire.sch.uk
SUMMARY:Dress Down Day - Children in Need
DESCRIPTION:
URL:https://grange-pri.cheshire.sch.uk/event/odd-socks-day/
END:VEVENT
BEGIN:VEVENT
DTSTART;TZID=UTC:20211125T153000
DTEND;TZID=UTC:20211125T180000
DTSTAMP:20260424T204803
CREATED:20211023T075912Z
LAST-MODIFIED:20211103T163336Z
UID:10495-1637854200-1637863200@grange-pri.cheshire.sch.uk
SUMMARY:Grange Open Evening
DESCRIPTION:
URL:https://grange-pri.cheshire.sch.uk/event/grange-open-evening/
END:VEVENT
BEGIN:VEVENT
DTSTART;VALUE=DATE:20211126
DTEND;VALUE=DATE:20211127
DTSTAMP:20260424T204803
CREATED:20211114T180812Z
LAST-MODIFIED:20211114T180812Z
UID:10551-1637884800-1637971199@grange-pri.cheshire.sch.uk
SUMMARY:Dress Down Day £1 donation
DESCRIPTION:
URL:https://grange-pri.cheshire.sch.uk/event/dress-down-day-1-donation/
END:VEVENT
BEGIN:VEVENT
DTSTART;VALUE=DATE:20211126
DTEND;VALUE=DATE:20211127
DTSTAMP:20260424T204803
CREATED:20211114T180911Z
LAST-MODIFIED:20211114T180911Z
UID:10553-1637884800-1637971199@grange-pri.cheshire.sch.uk
SUMMARY:Winsford Light Festival - Yr4 Lantern Parade
DESCRIPTION:
URL:https://grange-pri.cheshire.sch.uk/event/winsford-light-festival-yr4-lantern-parade/
END:VEVENT
BEGIN:VEVENT
DTSTART;VALUE=DATE:20211130
DTEND;VALUE=DATE:20211201
DTSTAMP:20260424T204803
CREATED:20211114T181011Z
LAST-MODIFIED:20211114T181011Z
UID:10555-1638230400-1638316799@grange-pri.cheshire.sch.uk
SUMMARY:Nursery/Reception Trip - Delamere
DESCRIPTION:
URL:https://grange-pri.cheshire.sch.uk/event/nursery-reception-trip-delamere/
END:VEVENT
END:VCALENDAR