BEGIN:VCALENDAR
VERSION:2.0
PRODID:-//Grange Community Nursery and Primary School - ECPv6.15.20//NONSGML v1.0//EN
CALSCALE:GREGORIAN
METHOD:PUBLISH
X-WR-CALNAME:Grange Community Nursery and Primary School
X-ORIGINAL-URL:https://grange-pri.cheshire.sch.uk
X-WR-CALDESC:Events for Grange Community Nursery and Primary School
REFRESH-INTERVAL;VALUE=DURATION:PT1H
X-Robots-Tag:noindex
X-PUBLISHED-TTL:PT1H
BEGIN:VTIMEZONE
TZID:UTC
BEGIN:STANDARD
TZOFFSETFROM:+0000
TZOFFSETTO:+0000
TZNAME:UTC
DTSTART:20200101T000000
END:STANDARD
END:VTIMEZONE
BEGIN:VEVENT
DTSTART;VALUE=DATE:20211201
DTEND;VALUE=DATE:20211202
DTSTAMP:20260424T190544
CREATED:20211114T181055Z
LAST-MODIFIED:20211114T181055Z
UID:10557-1638316800-1638403199@grange-pri.cheshire.sch.uk
SUMMARY:St Lukes - Elf Run
DESCRIPTION:
URL:https://grange-pri.cheshire.sch.uk/event/st-lukes-elf-run/
END:VEVENT
BEGIN:VEVENT
DTSTART;VALUE=DATE:20211201
DTEND;VALUE=DATE:20211202
DTSTAMP:20260424T190544
CREATED:20211114T181142Z
LAST-MODIFIED:20211114T181142Z
UID:10559-1638316800-1638403199@grange-pri.cheshire.sch.uk
SUMMARY:Family Christmas Competition Launches
DESCRIPTION:
URL:https://grange-pri.cheshire.sch.uk/event/family-christmas-competition-launches/
END:VEVENT
BEGIN:VEVENT
DTSTART;TZID=UTC:20211208T100000
DTEND;TZID=UTC:20211208T103000
DTSTAMP:20260424T190544
CREATED:20211114T181300Z
LAST-MODIFIED:20211114T181300Z
UID:10561-1638957600-1638959400@grange-pri.cheshire.sch.uk
SUMMARY:Christingle at Over St Johns Parish
DESCRIPTION:
URL:https://grange-pri.cheshire.sch.uk/event/christingle-at-over-st-johns-parish/
END:VEVENT
BEGIN:VEVENT
DTSTART;TZID=UTC:20211209T151500
DTEND;TZID=UTC:20211209T163000
DTSTAMP:20260424T190544
CREATED:20211114T181356Z
LAST-MODIFIED:20211114T181356Z
UID:10563-1639062900-1639067400@grange-pri.cheshire.sch.uk
SUMMARY:Grange Christmas Fayre
DESCRIPTION:
URL:https://grange-pri.cheshire.sch.uk/event/grange-christmas-fayre/
END:VEVENT
BEGIN:VEVENT
DTSTART;TZID=UTC:20211209T153000
DTEND;TZID=UTC:20211209T170000
DTSTAMP:20260424T190544
CREATED:20210929T172059Z
LAST-MODIFIED:20210929T172059Z
UID:10390-1639063800-1639069200@grange-pri.cheshire.sch.uk
SUMMARY:Christmas Fayre
DESCRIPTION:
URL:https://grange-pri.cheshire.sch.uk/event/christmas-fayre/
END:VEVENT
BEGIN:VEVENT
DTSTART;VALUE=DATE:20211210
DTEND;VALUE=DATE:20211211
DTSTAMP:20260424T190544
CREATED:20211114T181448Z
LAST-MODIFIED:20211114T181448Z
UID:10565-1639094400-1639180799@grange-pri.cheshire.sch.uk
SUMMARY:Christmas Jumper Day £1 donation
DESCRIPTION:
URL:https://grange-pri.cheshire.sch.uk/event/christmas-jumper-day-1-donation/
END:VEVENT
BEGIN:VEVENT
DTSTART;TZID=UTC:20211210T083000
DTEND;TZID=UTC:20211210T153000
DTSTAMP:20260424T190544
CREATED:20210929T172209Z
LAST-MODIFIED:20210929T172209Z
UID:10392-1639125000-1639150200@grange-pri.cheshire.sch.uk
SUMMARY:Christmas Jumper Day
DESCRIPTION:
URL:https://grange-pri.cheshire.sch.uk/event/christmas-jumper-day/
END:VEVENT
BEGIN:VEVENT
DTSTART;TZID=UTC:20211210T100000
DTEND;TZID=UTC:20211210T103000
DTSTAMP:20260424T190544
CREATED:20211114T181700Z
LAST-MODIFIED:20211114T181701Z
UID:10569-1639130400-1639132200@grange-pri.cheshire.sch.uk
SUMMARY:Nursery and Reception Christmas Performance
DESCRIPTION:
URL:https://grange-pri.cheshire.sch.uk/event/nursery-and-reception-christmas-performance/
END:VEVENT
BEGIN:VEVENT
DTSTART;TZID=UTC:20211210T140000
DTEND;TZID=UTC:20211210T150000
DTSTAMP:20260424T190544
CREATED:20211114T181554Z
LAST-MODIFIED:20211114T181554Z
UID:10567-1639144800-1639148400@grange-pri.cheshire.sch.uk
SUMMARY:Nursery Christmas Cafe
DESCRIPTION:
URL:https://grange-pri.cheshire.sch.uk/event/nursery-christmas-cafe/
END:VEVENT
BEGIN:VEVENT
DTSTART;TZID=UTC:20211214T100000
DTEND;TZID=UTC:20211214T110000
DTSTAMP:20260424T190544
CREATED:20210929T172354Z
LAST-MODIFIED:20210929T172537Z
UID:10394-1639476000-1639479600@grange-pri.cheshire.sch.uk
SUMMARY:KS1 Christmas Performance 10 am and 2pm
DESCRIPTION:
URL:https://grange-pri.cheshire.sch.uk/event/ks1-christmas-performance/2021-12-14/
END:VEVENT
BEGIN:VEVENT
DTSTART;TZID=UTC:20211215T140000
DTEND;TZID=UTC:20211215T190000
DTSTAMP:20260424T190544
CREATED:20210929T172848Z
LAST-MODIFIED:20210929T172848Z
UID:10398-1639576800-1639594800@grange-pri.cheshire.sch.uk
SUMMARY:KS2 Christmas Performances at 2pm and 6pm
DESCRIPTION:
URL:https://grange-pri.cheshire.sch.uk/event/ks2-christmas-performances-at-2pm-and-6pm/
END:VEVENT
BEGIN:VEVENT
DTSTART;VALUE=DATE:20211216
DTEND;VALUE=DATE:20211217
DTSTAMP:20260424T190544
CREATED:20211114T181812Z
LAST-MODIFIED:20211114T181812Z
UID:10571-1639612800-1639699199@grange-pri.cheshire.sch.uk
SUMMARY:Christmas Lunch and Party Afternoon
DESCRIPTION:
URL:https://grange-pri.cheshire.sch.uk/event/christmas-lunch-and-party-afternoon/
END:VEVENT
BEGIN:VEVENT
DTSTART;TZID=UTC:20211217T090000
DTEND;TZID=UTC:20211217T100000
DTSTAMP:20260424T190544
CREATED:20210929T173245Z
LAST-MODIFIED:20210929T173245Z
UID:10402-1639731600-1639735200@grange-pri.cheshire.sch.uk
SUMMARY:Carols around the Christmas tree
DESCRIPTION:
URL:https://grange-pri.cheshire.sch.uk/event/carols-around-the-christmas-tree/
END:VEVENT
BEGIN:VEVENT
DTSTART;TZID=UTC:20211217T153000
DTEND;TZID=UTC:20211217T153000
DTSTAMP:20260424T190544
CREATED:20210929T173432Z
LAST-MODIFIED:20210929T180844Z
UID:10404-1639755000-1639755000@grange-pri.cheshire.sch.uk
SUMMARY:School closes for Christmas
DESCRIPTION:
URL:https://grange-pri.cheshire.sch.uk/event/school-closes-for-christmas/
END:VEVENT
END:VCALENDAR