BEGIN:VCALENDAR
VERSION:2.0
PRODID:-//Grange Community Nursery and Primary School - ECPv6.15.20//NONSGML v1.0//EN
CALSCALE:GREGORIAN
METHOD:PUBLISH
X-ORIGINAL-URL:https://grange-pri.cheshire.sch.uk
X-WR-CALDESC:Events for Grange Community Nursery and Primary School
REFRESH-INTERVAL;VALUE=DURATION:PT1H
X-Robots-Tag:noindex
X-PUBLISHED-TTL:PT1H
BEGIN:VTIMEZONE
TZID:UTC
BEGIN:STANDARD
TZOFFSETFROM:+0000
TZOFFSETTO:+0000
TZNAME:UTC
DTSTART:20210101T000000
END:STANDARD
END:VTIMEZONE
BEGIN:VEVENT
DTSTART;VALUE=DATE:20220221
DTEND;VALUE=DATE:20220308
DTSTAMP:20260424T135846
CREATED:20220223T153911Z
LAST-MODIFIED:20220223T154529Z
UID:11045-1645401600-1646697599@grange-pri.cheshire.sch.uk
SUMMARY:Fairtrade Fortnight Begins
DESCRIPTION:
URL:https://grange-pri.cheshire.sch.uk/event/school-opens-for-spring-term-2/
END:VEVENT
BEGIN:VEVENT
DTSTART;VALUE=DATE:20220303
DTEND;VALUE=DATE:20220304
DTSTAMP:20260424T135846
CREATED:20220223T155044Z
LAST-MODIFIED:20220223T155044Z
UID:11051-1646265600-1646351999@grange-pri.cheshire.sch.uk
SUMMARY:World Book Day - Dress Up
DESCRIPTION:
URL:https://grange-pri.cheshire.sch.uk/event/world-book-day-dress-up/
END:VEVENT
BEGIN:VEVENT
DTSTART;VALUE=DATE:20220307
DTEND;VALUE=DATE:20220314
DTSTAMP:20260424T135846
CREATED:20220223T155227Z
LAST-MODIFIED:20220223T155227Z
UID:11053-1646611200-1647215999@grange-pri.cheshire.sch.uk
SUMMARY:British Science Week
DESCRIPTION:
URL:https://grange-pri.cheshire.sch.uk/event/british-science-week/
END:VEVENT
BEGIN:VEVENT
DTSTART;VALUE=DATE:20220308
DTEND;VALUE=DATE:20220309
DTSTAMP:20260424T135846
CREATED:20220223T155343Z
LAST-MODIFIED:20220223T155343Z
UID:11055-1646697600-1646783999@grange-pri.cheshire.sch.uk
SUMMARY:International Women's Day
DESCRIPTION:
URL:https://grange-pri.cheshire.sch.uk/event/international-womens-day/
END:VEVENT
BEGIN:VEVENT
DTSTART;TZID=UTC:20220314T090000
DTEND;TZID=UTC:20220316T151500
DTSTAMP:20260424T135846
CREATED:20220314T195737Z
LAST-MODIFIED:20220314T195808Z
UID:11167-1647248400-1647443700@grange-pri.cheshire.sch.uk
SUMMARY:Year 5 residential to Colomendy\, North Wales.
DESCRIPTION:
URL:https://grange-pri.cheshire.sch.uk/event/year-5-residential-to-colomendy-north-wales/
END:VEVENT
BEGIN:VEVENT
DTSTART;TZID=UTC:20220318T080000
DTEND;TZID=UTC:20220318T170000
DTSTAMP:20260424T135846
CREATED:20220314T200439Z
LAST-MODIFIED:20220314T200439Z
UID:11173-1647590400-1647622800@grange-pri.cheshire.sch.uk
SUMMARY:Comic Relief - Wear something red £1 donation to Comic Relief
DESCRIPTION:
URL:https://grange-pri.cheshire.sch.uk/event/comic-relief-wear-something-red-1-donation-to-comic-relief/
END:VEVENT
BEGIN:VEVENT
DTSTART;VALUE=DATE:20220321
DTEND;VALUE=DATE:20220322
DTSTAMP:20260424T135846
CREATED:20220223T155443Z
LAST-MODIFIED:20220223T155443Z
UID:11057-1647820800-1647907199@grange-pri.cheshire.sch.uk
SUMMARY:World Poetry Day
DESCRIPTION:
URL:https://grange-pri.cheshire.sch.uk/event/world-poetry-day/
END:VEVENT
BEGIN:VEVENT
DTSTART;TZID=UTC:20220325T090000
DTEND;TZID=UTC:20220325T100000
DTSTAMP:20260424T135846
CREATED:20220223T155623Z
LAST-MODIFIED:20220223T155711Z
UID:11059-1648198800-1648202400@grange-pri.cheshire.sch.uk
SUMMARY:Mother's/Carer's Day Coffee Morning
DESCRIPTION:
URL:https://grange-pri.cheshire.sch.uk/event/mothers-day-coffee-morning-2/
END:VEVENT
BEGIN:VEVENT
DTSTART;VALUE=DATE:20220327
DTEND;VALUE=DATE:20220328
DTSTAMP:20260424T135846
CREATED:20220223T164048Z
LAST-MODIFIED:20220223T164048Z
UID:11125-1648339200-1648425599@grange-pri.cheshire.sch.uk
SUMMARY:Happy Mother's/Carer's Day Xx
DESCRIPTION:
URL:https://grange-pri.cheshire.sch.uk/event/happy-mothers-carers-day-xx/
END:VEVENT
END:VCALENDAR