BEGIN:VCALENDAR
VERSION:2.0
PRODID:-//Grange Community Nursery and Primary School - ECPv6.15.20//NONSGML v1.0//EN
CALSCALE:GREGORIAN
METHOD:PUBLISH
X-ORIGINAL-URL:https://grange-pri.cheshire.sch.uk
X-WR-CALDESC:Events for Grange Community Nursery and Primary School
REFRESH-INTERVAL;VALUE=DURATION:PT1H
X-Robots-Tag:noindex
X-PUBLISHED-TTL:PT1H
BEGIN:VTIMEZONE
TZID:UTC
BEGIN:STANDARD
TZOFFSETFROM:+0000
TZOFFSETTO:+0000
TZNAME:UTC
DTSTART:20210101T000000
END:STANDARD
END:VTIMEZONE
BEGIN:VEVENT
DTSTART;VALUE=DATE:20220701
DTEND;VALUE=DATE:20220702
DTSTAMP:20260424T070326
CREATED:20220223T162801Z
LAST-MODIFIED:20220223T163007Z
UID:11107-1656633600-1656719999@grange-pri.cheshire.sch.uk
SUMMARY:School closed:INSET Day
DESCRIPTION:
URL:https://grange-pri.cheshire.sch.uk/event/national-writing-day/
END:VEVENT
BEGIN:VEVENT
DTSTART;VALUE=DATE:20220707
DTEND;VALUE=DATE:20220708
DTSTAMP:20260424T070326
CREATED:20220223T163107Z
LAST-MODIFIED:20220223T163107Z
UID:11111-1657152000-1657238399@grange-pri.cheshire.sch.uk
SUMMARY:World Forgiveness Day
DESCRIPTION:
URL:https://grange-pri.cheshire.sch.uk/event/world-forgiveness-day/
END:VEVENT
BEGIN:VEVENT
DTSTART;TZID=UTC:20220707T090000
DTEND;TZID=UTC:20220707T123000
DTSTAMP:20260424T070326
CREATED:20220515T081407Z
LAST-MODIFIED:20220515T081407Z
UID:11273-1657184400-1657197000@grange-pri.cheshire.sch.uk
SUMMARY:Transition morning
DESCRIPTION:
URL:https://grange-pri.cheshire.sch.uk/event/transition-morning-2/
END:VEVENT
BEGIN:VEVENT
DTSTART;TZID=UTC:20220708T153000
DTEND;TZID=UTC:20220708T170000
DTSTAMP:20260424T070326
CREATED:20220515T081513Z
LAST-MODIFIED:20220515T081513Z
UID:11275-1657294200-1657299600@grange-pri.cheshire.sch.uk
SUMMARY:Grange Summer Fair
DESCRIPTION:
URL:https://grange-pri.cheshire.sch.uk/event/grange-summer-fair-2/
END:VEVENT
BEGIN:VEVENT
DTSTART;VALUE=DATE:20220714
DTEND;VALUE=DATE:20220715
DTSTAMP:20260424T070326
CREATED:20220515T081624Z
LAST-MODIFIED:20220515T081624Z
UID:11277-1657756800-1657843199@grange-pri.cheshire.sch.uk
SUMMARY:Year 6 trip - Bowling
DESCRIPTION:
URL:https://grange-pri.cheshire.sch.uk/event/year-6-trip-bowling/
END:VEVENT
BEGIN:VEVENT
DTSTART;TZID=UTC:20220720T140000
DTEND;TZID=UTC:20220720T150000
DTSTAMP:20260424T070326
CREATED:20220223T163240Z
LAST-MODIFIED:20220515T081909Z
UID:11113-1658325600-1658329200@grange-pri.cheshire.sch.uk
SUMMARY:Year 6 Performance at 2pm
DESCRIPTION:
URL:https://grange-pri.cheshire.sch.uk/event/year-6-performance-2pm-6pm/
END:VEVENT
BEGIN:VEVENT
DTSTART;TZID=UTC:20220721T123000
DTEND;TZID=UTC:20220721T133000
DTSTAMP:20260424T070326
CREATED:20220223T163413Z
LAST-MODIFIED:20220223T163413Z
UID:11117-1658406600-1658410200@grange-pri.cheshire.sch.uk
SUMMARY:Year 6:Leavers Lunch
DESCRIPTION:
URL:https://grange-pri.cheshire.sch.uk/event/year-6leavers-lunch/
END:VEVENT
BEGIN:VEVENT
DTSTART;VALUE=DATE:20220722
DTEND;VALUE=DATE:20220723
DTSTAMP:20260424T070326
CREATED:20220223T163622Z
LAST-MODIFIED:20220223T163622Z
UID:11121-1658448000-1658534399@grange-pri.cheshire.sch.uk
SUMMARY:School closes for Summer Holidays
DESCRIPTION:
URL:https://grange-pri.cheshire.sch.uk/event/school-closes-for-summer-holidays/
END:VEVENT
BEGIN:VEVENT
DTSTART;TZID=UTC:20220722T140000
DTEND;TZID=UTC:20220722T150000
DTSTAMP:20260424T070326
CREATED:20220223T163524Z
LAST-MODIFIED:20220223T163524Z
UID:11119-1658498400-1658502000@grange-pri.cheshire.sch.uk
SUMMARY:Year 6 Leavers Assembly-2pm
DESCRIPTION:
URL:https://grange-pri.cheshire.sch.uk/event/year-6-leavers-assembly-2pm/
END:VEVENT
BEGIN:VEVENT
DTSTART;VALUE=DATE:20220725
DTEND;VALUE=DATE:20220726
DTSTAMP:20260424T070326
CREATED:20220223T163724Z
LAST-MODIFIED:20220223T163724Z
UID:11123-1658707200-1658793599@grange-pri.cheshire.sch.uk
SUMMARY:School closed:INSET Day
DESCRIPTION:
URL:https://grange-pri.cheshire.sch.uk/event/school-closedinset-day/
END:VEVENT
END:VCALENDAR