BEGIN:VCALENDAR
VERSION:2.0
PRODID:-//Grange Community Nursery and Primary School - ECPv6.15.20//NONSGML v1.0//EN
CALSCALE:GREGORIAN
METHOD:PUBLISH
X-ORIGINAL-URL:https://grange-pri.cheshire.sch.uk
X-WR-CALDESC:Events for Grange Community Nursery and Primary School
REFRESH-INTERVAL;VALUE=DURATION:PT1H
X-Robots-Tag:noindex
X-PUBLISHED-TTL:PT1H
BEGIN:VTIMEZONE
TZID:UTC
BEGIN:STANDARD
TZOFFSETFROM:+0000
TZOFFSETTO:+0000
TZNAME:UTC
DTSTART:20210101T000000
END:STANDARD
END:VTIMEZONE
BEGIN:VEVENT
DTSTART;TZID=UTC:20221110T151500
DTEND;TZID=UTC:20221110T180000
DTSTAMP:20260422T160229
CREATED:20221015T185005Z
LAST-MODIFIED:20221015T185005Z
UID:11674-1668093300-1668103200@grange-pri.cheshire.sch.uk
SUMMARY:Opening Evening
DESCRIPTION:
URL:https://grange-pri.cheshire.sch.uk/event/opening-evening/
END:VEVENT
BEGIN:VEVENT
DTSTART;TZID=UTC:20221111T091500
DTEND;TZID=UTC:20221111T094500
DTSTAMP:20260422T160229
CREATED:20221015T185138Z
LAST-MODIFIED:20221015T185138Z
UID:11676-1668158100-1668159900@grange-pri.cheshire.sch.uk
SUMMARY:Remembrance Day Service Assembly
DESCRIPTION:
URL:https://grange-pri.cheshire.sch.uk/event/remembrance-day-service-assembly/
END:VEVENT
BEGIN:VEVENT
DTSTART;VALUE=DATE:20221114
DTEND;VALUE=DATE:20221115
DTSTAMP:20260422T160229
CREATED:20221015T185328Z
LAST-MODIFIED:20221015T185328Z
UID:11680-1668384000-1668470399@grange-pri.cheshire.sch.uk
SUMMARY:Anti-Bullying Week
DESCRIPTION:
URL:https://grange-pri.cheshire.sch.uk/event/anti-bullying-week-2/
END:VEVENT
BEGIN:VEVENT
DTSTART;TZID=UTC:20221118T080000
DTEND;TZID=UTC:20221118T170000
DTSTAMP:20260422T160229
CREATED:20221015T185217Z
LAST-MODIFIED:20221015T185217Z
UID:11678-1668758400-1668790800@grange-pri.cheshire.sch.uk
SUMMARY:Children in Need
DESCRIPTION:
URL:https://grange-pri.cheshire.sch.uk/event/children-in-need/
END:VEVENT
BEGIN:VEVENT
DTSTART;TZID=UTC:20221119T100000
DTEND;TZID=UTC:20221119T120000
DTSTAMP:20260422T160229
CREATED:20221107T164217Z
LAST-MODIFIED:20221107T164755Z
UID:12112-1668852000-1668859200@grange-pri.cheshire.sch.uk
SUMMARY:Open Morning - Come along and meet the teachers and see what amazing opportunities we offer here at Grange.
DESCRIPTION:A fantastic opportunity to come along and have a look around our amazing school! \nYou will get the chance to meet and chat to some of our friendly staff and see some of the opportunities we offer to our children.
URL:https://grange-pri.cheshire.sch.uk/event/open-morning-new-families/
END:VEVENT
BEGIN:VEVENT
DTSTART;VALUE=DATE:20221121
DTEND;VALUE=DATE:20221122
DTSTAMP:20260422T160229
CREATED:20221015T185420Z
LAST-MODIFIED:20221015T185420Z
UID:11682-1668988800-1669075199@grange-pri.cheshire.sch.uk
SUMMARY:Odd Socks Day
DESCRIPTION:
URL:https://grange-pri.cheshire.sch.uk/event/odd-socks-day-3/
END:VEVENT
BEGIN:VEVENT
DTSTART;TZID=UTC:20221121T080000
DTEND;TZID=UTC:20221121T170000
DTSTAMP:20260422T160229
CREATED:20221015T185508Z
LAST-MODIFIED:20221015T185508Z
UID:11684-1669017600-1669050000@grange-pri.cheshire.sch.uk
SUMMARY:World Cup FIFA begins
DESCRIPTION:
URL:https://grange-pri.cheshire.sch.uk/event/world-cup-fifa-begins/
END:VEVENT
BEGIN:VEVENT
DTSTART;VALUE=DATE:20221130
DTEND;VALUE=DATE:20221201
DTSTAMP:20260422T160229
CREATED:20221129T162045Z
LAST-MODIFIED:20221129T162045Z
UID:12157-1669766400-1669852799@grange-pri.cheshire.sch.uk
SUMMARY:Year 6 Safety Central Trip
DESCRIPTION:
URL:https://grange-pri.cheshire.sch.uk/event/year-6-safety-central-trip/
END:VEVENT
END:VCALENDAR