BEGIN:VCALENDAR
VERSION:2.0
PRODID:-//Grange Community Nursery and Primary School - ECPv6.15.20//NONSGML v1.0//EN
CALSCALE:GREGORIAN
METHOD:PUBLISH
X-ORIGINAL-URL:https://grange-pri.cheshire.sch.uk
X-WR-CALDESC:Events for Grange Community Nursery and Primary School
REFRESH-INTERVAL;VALUE=DURATION:PT1H
X-Robots-Tag:noindex
X-PUBLISHED-TTL:PT1H
BEGIN:VTIMEZONE
TZID:UTC
BEGIN:STANDARD
TZOFFSETFROM:+0000
TZOFFSETTO:+0000
TZNAME:UTC
DTSTART:20220101T000000
END:STANDARD
END:VTIMEZONE
BEGIN:VEVENT
DTSTART;VALUE=DATE:20230104
DTEND;VALUE=DATE:20230105
DTSTAMP:20260422T071402
CREATED:20221015T190714Z
LAST-MODIFIED:20221015T190714Z
UID:11704-1672790400-1672876799@grange-pri.cheshire.sch.uk
SUMMARY:Children return
DESCRIPTION:
URL:https://grange-pri.cheshire.sch.uk/event/children-return/
END:VEVENT
BEGIN:VEVENT
DTSTART;VALUE=DATE:20230115
DTEND;VALUE=DATE:20230116
DTSTAMP:20260422T071402
CREATED:20221015T190815Z
LAST-MODIFIED:20221015T190815Z
UID:11706-1673740800-1673827199@grange-pri.cheshire.sch.uk
SUMMARY:Closing date for Reception Places
DESCRIPTION:
URL:https://grange-pri.cheshire.sch.uk/event/closing-date-for-reception-places/
END:VEVENT
BEGIN:VEVENT
DTSTART;VALUE=DATE:20230122
DTEND;VALUE=DATE:20230123
DTSTAMP:20260422T071402
CREATED:20221015T190942Z
LAST-MODIFIED:20221015T190942Z
UID:11708-1674345600-1674431999@grange-pri.cheshire.sch.uk
SUMMARY:Chinese New Year of the Rabbit
DESCRIPTION:
URL:https://grange-pri.cheshire.sch.uk/event/chinese-new-year-of-the-rabbit/
END:VEVENT
BEGIN:VEVENT
DTSTART;VALUE=DATE:20230127
DTEND;VALUE=DATE:20230128
DTSTAMP:20260422T071402
CREATED:20221015T191119Z
LAST-MODIFIED:20221015T191119Z
UID:11710-1674777600-1674863999@grange-pri.cheshire.sch.uk
SUMMARY:Big School Bird Watch
DESCRIPTION:
URL:https://grange-pri.cheshire.sch.uk/event/big-school-bird-watch/
END:VEVENT
BEGIN:VEVENT
DTSTART;TZID=UTC:20230130T080000
DTEND;TZID=UTC:20230205T200000
DTSTAMP:20260422T071402
CREATED:20221015T191249Z
LAST-MODIFIED:20221015T191249Z
UID:11712-1675065600-1675627200@grange-pri.cheshire.sch.uk
SUMMARY:National Story Telling Week
DESCRIPTION:
URL:https://grange-pri.cheshire.sch.uk/event/national-story-telling-week/
END:VEVENT
END:VCALENDAR