BEGIN:VCALENDAR
VERSION:2.0
PRODID:-//Grange Community Nursery and Primary School - ECPv6.15.20//NONSGML v1.0//EN
CALSCALE:GREGORIAN
METHOD:PUBLISH
X-ORIGINAL-URL:https://grange-pri.cheshire.sch.uk
X-WR-CALDESC:Events for Grange Community Nursery and Primary School
REFRESH-INTERVAL;VALUE=DURATION:PT1H
X-Robots-Tag:noindex
X-PUBLISHED-TTL:PT1H
BEGIN:VTIMEZONE
TZID:Europe/London
BEGIN:DAYLIGHT
TZOFFSETFROM:+0000
TZOFFSETTO:+0100
TZNAME:BST
DTSTART:20220327T010000
END:DAYLIGHT
BEGIN:STANDARD
TZOFFSETFROM:+0100
TZOFFSETTO:+0000
TZNAME:GMT
DTSTART:20221030T010000
END:STANDARD
BEGIN:DAYLIGHT
TZOFFSETFROM:+0000
TZOFFSETTO:+0100
TZNAME:BST
DTSTART:20230326T010000
END:DAYLIGHT
BEGIN:STANDARD
TZOFFSETFROM:+0100
TZOFFSETTO:+0000
TZNAME:GMT
DTSTART:20231029T010000
END:STANDARD
BEGIN:DAYLIGHT
TZOFFSETFROM:+0000
TZOFFSETTO:+0100
TZNAME:BST
DTSTART:20240331T010000
END:DAYLIGHT
BEGIN:STANDARD
TZOFFSETFROM:+0100
TZOFFSETTO:+0000
TZNAME:GMT
DTSTART:20241027T010000
END:STANDARD
END:VTIMEZONE
BEGIN:VTIMEZONE
TZID:UTC
BEGIN:STANDARD
TZOFFSETFROM:+0000
TZOFFSETTO:+0000
TZNAME:UTC
DTSTART:20220101T000000
END:STANDARD
END:VTIMEZONE
BEGIN:VEVENT
DTSTART;VALUE=DATE:20230906
DTEND;VALUE=DATE:20230907
DTSTAMP:20260421T211606
CREATED:20230905T224204Z
LAST-MODIFIED:20230906T224001Z
UID:13058-1693958400-1694044799@grange-pri.cheshire.sch.uk
SUMMARY:Return to school
DESCRIPTION:
URL:https://grange-pri.cheshire.sch.uk/event/return-to-school-14/
END:VEVENT
BEGIN:VEVENT
DTSTART;TZID=UTC:20230906T083000
DTEND;TZID=UTC:20230906T151500
DTSTAMP:20260421T211606
CREATED:20230905T074304Z
LAST-MODIFIED:20230905T074304Z
UID:12889-1693989000-1694013300@grange-pri.cheshire.sch.uk
SUMMARY:Return to School
DESCRIPTION:
URL:https://grange-pri.cheshire.sch.uk/event/return-to-school-8/
END:VEVENT
BEGIN:VEVENT
DTSTART;VALUE=DATE:20230910
DTEND;VALUE=DATE:20230911
DTSTAMP:20260421T211606
CREATED:20230905T105959Z
LAST-MODIFIED:20230905T105959Z
UID:12913-1694304000-1694390399@grange-pri.cheshire.sch.uk
SUMMARY:World Mental Health Day
DESCRIPTION:
URL:https://grange-pri.cheshire.sch.uk/event/world-mental-health-day-2/
END:VEVENT
BEGIN:VEVENT
DTSTART;TZID=UTC:20230911T153000
DTEND;TZID=UTC:20230915T160000
DTSTAMP:20260421T211606
CREATED:20230905T074427Z
LAST-MODIFIED:20230905T074427Z
UID:12891-1694446200-1694793600@grange-pri.cheshire.sch.uk
SUMMARY:Meet the Teacher
DESCRIPTION:
URL:https://grange-pri.cheshire.sch.uk/event/meet-the-teacher/
END:VEVENT
BEGIN:VEVENT
DTSTART;VALUE=DATE:20230921
DTEND;VALUE=DATE:20230922
DTSTAMP:20260421T211606
CREATED:20230905T074626Z
LAST-MODIFIED:20230905T074626Z
UID:12895-1695254400-1695340799@grange-pri.cheshire.sch.uk
SUMMARY:International Peace Day
DESCRIPTION:
URL:https://grange-pri.cheshire.sch.uk/event/international-peace-day/
END:VEVENT
BEGIN:VEVENT
DTSTART;VALUE=DATE:20230921
DTEND;VALUE=DATE:20230922
DTSTAMP:20260421T211606
CREATED:20230905T074733Z
LAST-MODIFIED:20230905T074733Z
UID:12897-1695254400-1695340799@grange-pri.cheshire.sch.uk
SUMMARY:Phonics Parent Workshop
DESCRIPTION:
URL:https://grange-pri.cheshire.sch.uk/event/phonics-parent-workshop/
END:VEVENT
BEGIN:VEVENT
DTSTART;VALUE=DATE:20230922
DTEND;VALUE=DATE:20230923
DTSTAMP:20260421T211606
CREATED:20230905T074529Z
LAST-MODIFIED:20230915T135111Z
UID:12893-1695340800-1695427199@grange-pri.cheshire.sch.uk
SUMMARY:Tempest School Photographs
DESCRIPTION:
URL:https://grange-pri.cheshire.sch.uk/event/tempest-school-photographs/
END:VEVENT
BEGIN:VEVENT
DTSTART;VALUE=DATE:20230926
DTEND;VALUE=DATE:20230927
DTSTAMP:20260421T211606
CREATED:20230905T074826Z
LAST-MODIFIED:20230905T074826Z
UID:12899-1695686400-1695772799@grange-pri.cheshire.sch.uk
SUMMARY:European Day of Languages
DESCRIPTION:
URL:https://grange-pri.cheshire.sch.uk/event/european-day-of-languages-4/
END:VEVENT
BEGIN:VEVENT
DTSTART;TZID=UTC:20230927T090000
DTEND;TZID=UTC:20230927T120000
DTSTAMP:20260421T211606
CREATED:20230905T075030Z
LAST-MODIFIED:20230905T075030Z
UID:12903-1695805200-1695816000@grange-pri.cheshire.sch.uk
SUMMARY:Open Day for Prospective Parents
DESCRIPTION:
URL:https://grange-pri.cheshire.sch.uk/event/open-day-for-prospective-parents/
END:VEVENT
BEGIN:VEVENT
DTSTART;VALUE=DATE:20230929
DTEND;VALUE=DATE:20230930
DTSTAMP:20260421T211606
CREATED:20230905T074913Z
LAST-MODIFIED:20230905T074913Z
UID:12901-1695945600-1696031999@grange-pri.cheshire.sch.uk
SUMMARY:Macmillan Coffee Morning
DESCRIPTION:
URL:https://grange-pri.cheshire.sch.uk/event/macmillan-coffee-morning-3/
END:VEVENT
END:VCALENDAR