BEGIN:VCALENDAR
VERSION:2.0
PRODID:-//Grange Community Nursery and Primary School - ECPv6.15.20//NONSGML v1.0//EN
CALSCALE:GREGORIAN
METHOD:PUBLISH
X-WR-CALNAME:Grange Community Nursery and Primary School
X-ORIGINAL-URL:https://grange-pri.cheshire.sch.uk
X-WR-CALDESC:Events for Grange Community Nursery and Primary School
REFRESH-INTERVAL;VALUE=DURATION:PT1H
X-Robots-Tag:noindex
X-PUBLISHED-TTL:PT1H
BEGIN:VTIMEZONE
TZID:UTC
BEGIN:STANDARD
TZOFFSETFROM:+0000
TZOFFSETTO:+0000
TZNAME:UTC
DTSTART:20220101T000000
END:STANDARD
END:VTIMEZONE
BEGIN:VTIMEZONE
TZID:Europe/London
BEGIN:DAYLIGHT
TZOFFSETFROM:+0000
TZOFFSETTO:+0100
TZNAME:BST
DTSTART:20220327T010000
END:DAYLIGHT
BEGIN:STANDARD
TZOFFSETFROM:+0100
TZOFFSETTO:+0000
TZNAME:GMT
DTSTART:20221030T010000
END:STANDARD
BEGIN:DAYLIGHT
TZOFFSETFROM:+0000
TZOFFSETTO:+0100
TZNAME:BST
DTSTART:20230326T010000
END:DAYLIGHT
BEGIN:STANDARD
TZOFFSETFROM:+0100
TZOFFSETTO:+0000
TZNAME:GMT
DTSTART:20231029T010000
END:STANDARD
BEGIN:DAYLIGHT
TZOFFSETFROM:+0000
TZOFFSETTO:+0100
TZNAME:BST
DTSTART:20240331T010000
END:DAYLIGHT
BEGIN:STANDARD
TZOFFSETFROM:+0100
TZOFFSETTO:+0000
TZNAME:GMT
DTSTART:20241027T010000
END:STANDARD
END:VTIMEZONE
BEGIN:VEVENT
DTSTART;TZID=UTC:20231003T090000
DTEND;TZID=UTC:20231003T094500
DTSTAMP:20260421T225643
CREATED:20230905T075210Z
LAST-MODIFIED:20230905T075210Z
UID:12905-1696323600-1696326300@grange-pri.cheshire.sch.uk
SUMMARY:Join us for Maths lessons! Parents invited.
DESCRIPTION:
URL:https://grange-pri.cheshire.sch.uk/event/join-us-for-maths-lessons-parents-invited/
END:VEVENT
BEGIN:VEVENT
DTSTART;TZID=UTC:20231004T123000
DTEND;TZID=UTC:20231004T130000
DTSTAMP:20260421T225643
CREATED:20230905T075419Z
LAST-MODIFIED:20230905T105322Z
UID:12907-1696422600-1696424400@grange-pri.cheshire.sch.uk
SUMMARY:Y6 Family Lunch
DESCRIPTION:
URL:https://grange-pri.cheshire.sch.uk/event/y6-family-lunch/
END:VEVENT
BEGIN:VEVENT
DTSTART;VALUE=DATE:20231005
DTEND;VALUE=DATE:20231006
DTSTAMP:20260421T225643
CREATED:20230905T105501Z
LAST-MODIFIED:20230905T105501Z
UID:12909-1696464000-1696550399@grange-pri.cheshire.sch.uk
SUMMARY:World Teacher Day
DESCRIPTION:
URL:https://grange-pri.cheshire.sch.uk/event/world-teacher-day-2/
END:VEVENT
BEGIN:VEVENT
DTSTART;VALUE=DATE:20231005
DTEND;VALUE=DATE:20231006
DTSTAMP:20260421T225643
CREATED:20230905T105853Z
LAST-MODIFIED:20230905T105853Z
UID:12911-1696464000-1696550399@grange-pri.cheshire.sch.uk
SUMMARY:National Poetry Day
DESCRIPTION:
URL:https://grange-pri.cheshire.sch.uk/event/national-poetry-day-3/
END:VEVENT
BEGIN:VEVENT
DTSTART;VALUE=DATE:20231005
DTEND;VALUE=DATE:20231006
DTSTAMP:20260421T225643
CREATED:20230905T224204Z
LAST-MODIFIED:20231005T011302Z
UID:13059-1696464000-1696550399@grange-pri.cheshire.sch.uk
SUMMARY:World Teacher Day
DESCRIPTION:
URL:https://grange-pri.cheshire.sch.uk/event/world-teacher-day-3/
END:VEVENT
BEGIN:VEVENT
DTSTART;VALUE=DATE:20231014
DTEND;VALUE=DATE:20231015
DTSTAMP:20260421T225643
CREATED:20230905T110749Z
LAST-MODIFIED:20230905T110749Z
UID:12919-1697241600-1697327999@grange-pri.cheshire.sch.uk
SUMMARY:Open Morning
DESCRIPTION:
URL:https://grange-pri.cheshire.sch.uk/event/open-morning/
END:VEVENT
BEGIN:VEVENT
DTSTART;VALUE=DATE:20231018
DTEND;VALUE=DATE:20231019
DTSTAMP:20260421T225643
CREATED:20230905T110904Z
LAST-MODIFIED:20230905T110904Z
UID:12921-1697587200-1697673599@grange-pri.cheshire.sch.uk
SUMMARY:Y5 Family Lunch
DESCRIPTION:
URL:https://grange-pri.cheshire.sch.uk/event/y5-family-lunch/
END:VEVENT
BEGIN:VEVENT
DTSTART;VALUE=DATE:20231020
DTEND;VALUE=DATE:20231021
DTSTAMP:20260421T225643
CREATED:20230905T111210Z
LAST-MODIFIED:20230905T111210Z
UID:12923-1697760000-1697846399@grange-pri.cheshire.sch.uk
SUMMARY:School Sleepover
DESCRIPTION:
URL:https://grange-pri.cheshire.sch.uk/event/school-sleepover/
END:VEVENT
BEGIN:VEVENT
DTSTART;TZID=UTC:20231026T160000
DTEND;TZID=UTC:20231026T181500
DTSTAMP:20260421T225643
CREATED:20230905T111321Z
LAST-MODIFIED:20231025T082644Z
UID:12925-1698336000-1698344100@grange-pri.cheshire.sch.uk
SUMMARY:Halloween Disco KS1 4pm-5pm KS2 5.15pm-6.15pm
DESCRIPTION:
URL:https://grange-pri.cheshire.sch.uk/event/halloween-disco-2/
END:VEVENT
BEGIN:VEVENT
DTSTART;TZID=UTC:20231027T153000
DTEND;TZID=UTC:20231027T153000
DTSTAMP:20260421T225643
CREATED:20230905T111811Z
LAST-MODIFIED:20230905T111811Z
UID:12927-1698420600-1698420600@grange-pri.cheshire.sch.uk
SUMMARY:Break Up for Half Term
DESCRIPTION:
URL:https://grange-pri.cheshire.sch.uk/event/break-up-for-half-term/
END:VEVENT
END:VCALENDAR