BEGIN:VCALENDAR
VERSION:2.0
PRODID:-//Grange Community Nursery and Primary School - ECPv6.15.20//NONSGML v1.0//EN
CALSCALE:GREGORIAN
METHOD:PUBLISH
X-ORIGINAL-URL:https://grange-pri.cheshire.sch.uk
X-WR-CALDESC:Events for Grange Community Nursery and Primary School
REFRESH-INTERVAL;VALUE=DURATION:PT1H
X-Robots-Tag:noindex
X-PUBLISHED-TTL:PT1H
BEGIN:VTIMEZONE
TZID:UTC
BEGIN:STANDARD
TZOFFSETFROM:+0000
TZOFFSETTO:+0000
TZNAME:UTC
DTSTART:20220101T000000
END:STANDARD
END:VTIMEZONE
BEGIN:VEVENT
DTSTART;TZID=UTC:20231205T093000
DTEND;TZID=UTC:20231205T100000
DTSTAMP:20260421T191939
CREATED:20231109T205345Z
LAST-MODIFIED:20231109T205345Z
UID:13316-1701768600-1701770400@grange-pri.cheshire.sch.uk
SUMMARY:Elf Run - in aid of St Luke's Hospice
DESCRIPTION:
URL:https://grange-pri.cheshire.sch.uk/event/elf-run-in-aid-of-st-lukes-hospice/
END:VEVENT
BEGIN:VEVENT
DTSTART;TZID=UTC:20231206T123000
DTEND;TZID=UTC:20231206T130000
DTSTAMP:20260421T191939
CREATED:20230905T113409Z
LAST-MODIFIED:20230905T113409Z
UID:12949-1701865800-1701867600@grange-pri.cheshire.sch.uk
SUMMARY:Y2 Family Lunch
DESCRIPTION:
URL:https://grange-pri.cheshire.sch.uk/event/y2-family-lunch/
END:VEVENT
BEGIN:VEVENT
DTSTART;TZID=UTC:20231207T080000
DTEND;TZID=UTC:20231207T170000
DTSTAMP:20260421T191939
CREATED:20231027T090858Z
LAST-MODIFIED:20231027T090858Z
UID:13173-1701936000-1701968400@grange-pri.cheshire.sch.uk
SUMMARY:No After School Clubs today
DESCRIPTION:
URL:https://grange-pri.cheshire.sch.uk/event/no-after-school-clubs-today/
END:VEVENT
BEGIN:VEVENT
DTSTART;TZID=UTC:20231207T153000
DTEND;TZID=UTC:20231207T170000
DTSTAMP:20260421T191939
CREATED:20231027T091011Z
LAST-MODIFIED:20231027T091011Z
UID:13175-1701963000-1701968400@grange-pri.cheshire.sch.uk
SUMMARY:Christmas Fayre
DESCRIPTION:
URL:https://grange-pri.cheshire.sch.uk/event/christmas-fayre-4/
END:VEVENT
BEGIN:VEVENT
DTSTART;VALUE=DATE:20231208
DTEND;VALUE=DATE:20231209
DTSTAMP:20260421T191939
CREATED:20231109T205536Z
LAST-MODIFIED:20231109T205536Z
UID:13318-1701993600-1702079999@grange-pri.cheshire.sch.uk
SUMMARY:Sing the Christmas Story - Chester Cathedral
DESCRIPTION:
URL:https://grange-pri.cheshire.sch.uk/event/sing-the-christmas-story-chester-cathedral/
END:VEVENT
BEGIN:VEVENT
DTSTART;TZID=UTC:20231213T140000
DTEND;TZID=UTC:20231213T140000
DTSTAMP:20260421T191939
CREATED:20230905T123040Z
LAST-MODIFIED:20230905T123040Z
UID:12951-1702476000-1702476000@grange-pri.cheshire.sch.uk
SUMMARY:Christmas Performance
DESCRIPTION:
URL:https://grange-pri.cheshire.sch.uk/event/christmas-performance/
END:VEVENT
BEGIN:VEVENT
DTSTART;TZID=UTC:20231213T163000
DTEND;TZID=UTC:20231213T163000
DTSTAMP:20260421T191939
CREATED:20230905T123138Z
LAST-MODIFIED:20230905T123138Z
UID:12953-1702485000-1702485000@grange-pri.cheshire.sch.uk
SUMMARY:Christmas Performance
DESCRIPTION:
URL:https://grange-pri.cheshire.sch.uk/event/christmas-performance-2/
END:VEVENT
BEGIN:VEVENT
DTSTART;VALUE=DATE:20231215
DTEND;VALUE=DATE:20231216
DTSTAMP:20260421T191939
CREATED:20230905T123245Z
LAST-MODIFIED:20231109T210002Z
UID:12955-1702598400-1702684799@grange-pri.cheshire.sch.uk
SUMMARY:Christmas Jumper Day
DESCRIPTION:
URL:https://grange-pri.cheshire.sch.uk/event/childrens-christmas-lunch-2/
END:VEVENT
BEGIN:VEVENT
DTSTART;VALUE=DATE:20231220
DTEND;VALUE=DATE:20231221
DTSTAMP:20260421T191939
CREATED:20221015T190140Z
LAST-MODIFIED:20231109T210119Z
UID:11696-1703030400-1703116799@grange-pri.cheshire.sch.uk
SUMMARY:Children's Christmas Lunch
DESCRIPTION:
URL:https://grange-pri.cheshire.sch.uk/event/childrens-christmas-lunch/
END:VEVENT
BEGIN:VEVENT
DTSTART;TZID=UTC:20231222T090000
DTEND;TZID=UTC:20231222T093000
DTSTAMP:20260421T191939
CREATED:20230905T123331Z
LAST-MODIFIED:20230905T123331Z
UID:12957-1703235600-1703237400@grange-pri.cheshire.sch.uk
SUMMARY:Carols Around the Tree
DESCRIPTION:
URL:https://grange-pri.cheshire.sch.uk/event/carols-around-the-tree-2/
END:VEVENT
BEGIN:VEVENT
DTSTART;TZID=UTC:20231222T153000
DTEND;TZID=UTC:20231222T153000
DTSTAMP:20260421T191939
CREATED:20230905T123545Z
LAST-MODIFIED:20230905T123545Z
UID:12959-1703259000-1703259000@grange-pri.cheshire.sch.uk
SUMMARY:Break Up for Christmas
DESCRIPTION:
URL:https://grange-pri.cheshire.sch.uk/event/break-up-for-christmas/
END:VEVENT
END:VCALENDAR