BEGIN:VCALENDAR
VERSION:2.0
PRODID:-//Grange Community Nursery and Primary School - ECPv6.15.20//NONSGML v1.0//EN
CALSCALE:GREGORIAN
METHOD:PUBLISH
X-ORIGINAL-URL:https://grange-pri.cheshire.sch.uk
X-WR-CALDESC:Events for Grange Community Nursery and Primary School
REFRESH-INTERVAL;VALUE=DURATION:PT1H
X-Robots-Tag:noindex
X-PUBLISHED-TTL:PT1H
BEGIN:VTIMEZONE
TZID:UTC
BEGIN:STANDARD
TZOFFSETFROM:+0000
TZOFFSETTO:+0000
TZNAME:UTC
DTSTART:20230101T000000
END:STANDARD
END:VTIMEZONE
BEGIN:VEVENT
DTSTART;TZID=UTC:20240129T083000
DTEND;TZID=UTC:20240202T153000
DTSTAMP:20260421T152614
CREATED:20230905T124654Z
LAST-MODIFIED:20230905T124654Z
UID:12973-1706517000-1706887800@grange-pri.cheshire.sch.uk
SUMMARY:National Storytelling Week
DESCRIPTION:
URL:https://grange-pri.cheshire.sch.uk/event/national-storytelling-week/
END:VEVENT
BEGIN:VEVENT
DTSTART;TZID=UTC:20240205T083000
DTEND;TZID=UTC:20240209T153000
DTSTAMP:20260421T152614
CREATED:20230905T125013Z
LAST-MODIFIED:20230905T125013Z
UID:12977-1707121800-1707492600@grange-pri.cheshire.sch.uk
SUMMARY:Children's Mental Health Week
DESCRIPTION:
URL:https://grange-pri.cheshire.sch.uk/event/childrens-mental-health-week-2/
END:VEVENT
BEGIN:VEVENT
DTSTART;VALUE=DATE:20240206
DTEND;VALUE=DATE:20240207
DTSTAMP:20260421T152614
CREATED:20230905T125113Z
LAST-MODIFIED:20230905T125113Z
UID:12979-1707177600-1707263999@grange-pri.cheshire.sch.uk
SUMMARY:Safer Internet Day
DESCRIPTION:
URL:https://grange-pri.cheshire.sch.uk/event/safer-internet-day-3/
END:VEVENT
BEGIN:VEVENT
DTSTART;VALUE=DATE:20240209
DTEND;VALUE=DATE:20240210
DTSTAMP:20260421T152614
CREATED:20230905T125627Z
LAST-MODIFIED:20230905T125627Z
UID:12981-1707436800-1707523199@grange-pri.cheshire.sch.uk
SUMMARY:Whole School Chester Zoo Trip
DESCRIPTION:
URL:https://grange-pri.cheshire.sch.uk/event/whole-school-chester-zoo-trip/
END:VEVENT
BEGIN:VEVENT
DTSTART;TZID=UTC:20240214T120000
DTEND;TZID=UTC:20240214T130000
DTSTAMP:20260421T152614
CREATED:20230905T130004Z
LAST-MODIFIED:20230905T130004Z
UID:12983-1707912000-1707915600@grange-pri.cheshire.sch.uk
SUMMARY:Nursery Family Lunch
DESCRIPTION:
URL:https://grange-pri.cheshire.sch.uk/event/nursery-family-lunch/
END:VEVENT
BEGIN:VEVENT
DTSTART;TZID=UTC:20240216T153000
DTEND;TZID=UTC:20240216T153000
DTSTAMP:20260421T152614
CREATED:20230905T130857Z
LAST-MODIFIED:20230905T130857Z
UID:12987-1708097400-1708097400@grange-pri.cheshire.sch.uk
SUMMARY:Break Up for Half Term
DESCRIPTION:
URL:https://grange-pri.cheshire.sch.uk/event/break-up-for-half-term-2/
END:VEVENT
BEGIN:VEVENT
DTSTART;TZID=UTC:20240219T083000
DTEND;TZID=UTC:20240223T153000
DTSTAMP:20260421T152614
CREATED:20230905T130204Z
LAST-MODIFIED:20230905T130204Z
UID:12985-1708331400-1708702200@grange-pri.cheshire.sch.uk
SUMMARY:Random Acts of Kindness Week
DESCRIPTION:
URL:https://grange-pri.cheshire.sch.uk/event/random-acts-of-kindness-week/
END:VEVENT
BEGIN:VEVENT
DTSTART;TZID=UTC:20240226T083000
DTEND;TZID=UTC:20240226T083000
DTSTAMP:20260421T152614
CREATED:20230905T131011Z
LAST-MODIFIED:20230905T131011Z
UID:12989-1708936200-1708936200@grange-pri.cheshire.sch.uk
SUMMARY:Return to School
DESCRIPTION:
URL:https://grange-pri.cheshire.sch.uk/event/return-to-school-11/
END:VEVENT
BEGIN:VEVENT
DTSTART;VALUE=DATE:20240227
DTEND;VALUE=DATE:20240229
DTSTAMP:20260421T152614
CREATED:20230905T131343Z
LAST-MODIFIED:20230905T131343Z
UID:12991-1708992000-1709164799@grange-pri.cheshire.sch.uk
SUMMARY:Y1 Burwardsley Residential
DESCRIPTION:
URL:https://grange-pri.cheshire.sch.uk/event/y1-burwardsley-residential/
END:VEVENT
END:VCALENDAR