BEGIN:VCALENDAR
VERSION:2.0
PRODID:-//Grange Community Nursery and Primary School - ECPv6.15.20//NONSGML v1.0//EN
CALSCALE:GREGORIAN
METHOD:PUBLISH
X-ORIGINAL-URL:https://grange-pri.cheshire.sch.uk
X-WR-CALDESC:Events for Grange Community Nursery and Primary School
REFRESH-INTERVAL;VALUE=DURATION:PT1H
X-Robots-Tag:noindex
X-PUBLISHED-TTL:PT1H
BEGIN:VTIMEZONE
TZID:UTC
BEGIN:STANDARD
TZOFFSETFROM:+0000
TZOFFSETTO:+0000
TZNAME:UTC
DTSTART:20230101T000000
END:STANDARD
END:VTIMEZONE
BEGIN:VEVENT
DTSTART;VALUE=DATE:20240919
DTEND;VALUE=DATE:20240920
DTSTAMP:20260420T070304
CREATED:20240905T071303Z
LAST-MODIFIED:20240905T071303Z
UID:14410-1726704000-1726790399@grange-pri.cheshire.sch.uk
SUMMARY:School Photo Day
DESCRIPTION:
URL:https://grange-pri.cheshire.sch.uk/event/school-photo-day/
END:VEVENT
BEGIN:VEVENT
DTSTART;VALUE=DATE:20240921
DTEND;VALUE=DATE:20240922
DTSTAMP:20260420T070304
CREATED:20240905T071402Z
LAST-MODIFIED:20240905T071402Z
UID:14412-1726876800-1726963199@grange-pri.cheshire.sch.uk
SUMMARY:Open Day - Prospective Parents
DESCRIPTION:
URL:https://grange-pri.cheshire.sch.uk/event/open-day-prospective-parents/
END:VEVENT
BEGIN:VEVENT
DTSTART;VALUE=DATE:20240925
DTEND;VALUE=DATE:20240926
DTSTAMP:20260420T070304
CREATED:20240905T071450Z
LAST-MODIFIED:20240905T071450Z
UID:14414-1727222400-1727308799@grange-pri.cheshire.sch.uk
SUMMARY:New Parents Evening
DESCRIPTION:
URL:https://grange-pri.cheshire.sch.uk/event/new-parents-evening/
END:VEVENT
BEGIN:VEVENT
DTSTART;VALUE=DATE:20240926
DTEND;VALUE=DATE:20240927
DTSTAMP:20260420T070304
CREATED:20240905T071537Z
LAST-MODIFIED:20240905T071537Z
UID:14416-1727308800-1727395199@grange-pri.cheshire.sch.uk
SUMMARY:European Day of Languages
DESCRIPTION:
URL:https://grange-pri.cheshire.sch.uk/event/european-day-of-languages-5/
END:VEVENT
BEGIN:VEVENT
DTSTART;VALUE=DATE:20240927
DTEND;VALUE=DATE:20240928
DTSTAMP:20260420T070304
CREATED:20240905T071622Z
LAST-MODIFIED:20240905T071622Z
UID:14418-1727395200-1727481599@grange-pri.cheshire.sch.uk
SUMMARY:Macmillan Coffee Morning
DESCRIPTION:
URL:https://grange-pri.cheshire.sch.uk/event/macmillan-coffee-morning-4/
END:VEVENT
END:VCALENDAR