BEGIN:VCALENDAR
VERSION:2.0
PRODID:-//Grange Community Nursery and Primary School - ECPv6.15.20//NONSGML v1.0//EN
CALSCALE:GREGORIAN
METHOD:PUBLISH
X-WR-CALNAME:Grange Community Nursery and Primary School
X-ORIGINAL-URL:https://grange-pri.cheshire.sch.uk
X-WR-CALDESC:Events for Grange Community Nursery and Primary School
REFRESH-INTERVAL;VALUE=DURATION:PT1H
X-Robots-Tag:noindex
X-PUBLISHED-TTL:PT1H
BEGIN:VTIMEZONE
TZID:UTC
BEGIN:STANDARD
TZOFFSETFROM:+0000
TZOFFSETTO:+0000
TZNAME:UTC
DTSTART:20240101T000000
END:STANDARD
END:VTIMEZONE
BEGIN:VEVENT
DTSTART;VALUE=DATE:20250306
DTEND;VALUE=DATE:20250307
DTSTAMP:20260419T205156
CREATED:20240907T074032Z
LAST-MODIFIED:20240907T074032Z
UID:14479-1741219200-1741305599@grange-pri.cheshire.sch.uk
SUMMARY:World Book Day
DESCRIPTION:
URL:https://grange-pri.cheshire.sch.uk/event/world-book-day-4/
END:VEVENT
BEGIN:VEVENT
DTSTART;VALUE=DATE:20250307
DTEND;VALUE=DATE:20250308
DTSTAMP:20260419T205156
CREATED:20240907T074139Z
LAST-MODIFIED:20240907T074139Z
UID:14481-1741305600-1741391999@grange-pri.cheshire.sch.uk
SUMMARY:Science Week
DESCRIPTION:
URL:https://grange-pri.cheshire.sch.uk/event/science-week-4/
END:VEVENT
BEGIN:VEVENT
DTSTART;TZID=UTC:20250310T151500
DTEND;TZID=UTC:20250310T160000
DTSTAMP:20260419T205156
CREATED:20240907T074258Z
LAST-MODIFIED:20240907T074258Z
UID:14483-1741619700-1741622400@grange-pri.cheshire.sch.uk
SUMMARY:SAT's meeting - Y6 parents
DESCRIPTION:
URL:https://grange-pri.cheshire.sch.uk/event/sats-meeting-y6-parents/
END:VEVENT
BEGIN:VEVENT
DTSTART;TZID=UTC:20250312T151500
DTEND;TZID=UTC:20250312T160000
DTSTAMP:20260419T205156
CREATED:20240907T074415Z
LAST-MODIFIED:20240907T074415Z
UID:14485-1741792500-1741795200@grange-pri.cheshire.sch.uk
SUMMARY:SATs meeting - Y2 parents
DESCRIPTION:
URL:https://grange-pri.cheshire.sch.uk/event/sats-meeting-y2-parents/
END:VEVENT
BEGIN:VEVENT
DTSTART;TZID=UTC:20250312T151500
DTEND;TZID=UTC:20250313T160000
DTSTAMP:20260419T205156
CREATED:20240907T074526Z
LAST-MODIFIED:20240907T074526Z
UID:14487-1741792500-1741881600@grange-pri.cheshire.sch.uk
SUMMARY:Phonics Screening Meeting for parents
DESCRIPTION:
URL:https://grange-pri.cheshire.sch.uk/event/phonics-screening-meeting-for-parents-2/
END:VEVENT
BEGIN:VEVENT
DTSTART;VALUE=DATE:20250321
DTEND;VALUE=DATE:20250322
DTSTAMP:20260419T205156
CREATED:20240907T074618Z
LAST-MODIFIED:20250320T080712Z
UID:14489-1742515200-1742601599@grange-pri.cheshire.sch.uk
SUMMARY:Comic Relief
DESCRIPTION:
URL:https://grange-pri.cheshire.sch.uk/event/comic-relief-2/
END:VEVENT
BEGIN:VEVENT
DTSTART;VALUE=DATE:20250321
DTEND;VALUE=DATE:20250322
DTSTAMP:20260419T205156
CREATED:20240907T074713Z
LAST-MODIFIED:20240907T074713Z
UID:14491-1742515200-1742601599@grange-pri.cheshire.sch.uk
SUMMARY:World Poetry Day
DESCRIPTION:
URL:https://grange-pri.cheshire.sch.uk/event/world-poetry-day-4/
END:VEVENT
BEGIN:VEVENT
DTSTART;VALUE=DATE:20250328
DTEND;VALUE=DATE:20250329
DTSTAMP:20260419T205156
CREATED:20240907T074825Z
LAST-MODIFIED:20250320T080851Z
UID:14493-1743120000-1743206399@grange-pri.cheshire.sch.uk
SUMMARY:Easter Dress Down Day
DESCRIPTION:
URL:https://grange-pri.cheshire.sch.uk/event/easter-dress-down-day-2/
END:VEVENT
END:VCALENDAR