BEGIN:VCALENDAR
VERSION:2.0
PRODID:-//Grange Community Nursery and Primary School - ECPv6.15.20//NONSGML v1.0//EN
CALSCALE:GREGORIAN
METHOD:PUBLISH
X-ORIGINAL-URL:https://grange-pri.cheshire.sch.uk
X-WR-CALDESC:Events for Grange Community Nursery and Primary School
REFRESH-INTERVAL;VALUE=DURATION:PT1H
X-Robots-Tag:noindex
X-PUBLISHED-TTL:PT1H
BEGIN:VTIMEZONE
TZID:Europe/London
BEGIN:DAYLIGHT
TZOFFSETFROM:+0000
TZOFFSETTO:+0100
TZNAME:BST
DTSTART:20200329T010000
END:DAYLIGHT
BEGIN:STANDARD
TZOFFSETFROM:+0100
TZOFFSETTO:+0000
TZNAME:GMT
DTSTART:20201025T010000
END:STANDARD
BEGIN:DAYLIGHT
TZOFFSETFROM:+0000
TZOFFSETTO:+0100
TZNAME:BST
DTSTART:20210328T010000
END:DAYLIGHT
BEGIN:STANDARD
TZOFFSETFROM:+0100
TZOFFSETTO:+0000
TZNAME:GMT
DTSTART:20211031T010000
END:STANDARD
BEGIN:DAYLIGHT
TZOFFSETFROM:+0000
TZOFFSETTO:+0100
TZNAME:BST
DTSTART:20220327T010000
END:DAYLIGHT
BEGIN:STANDARD
TZOFFSETFROM:+0100
TZOFFSETTO:+0000
TZNAME:GMT
DTSTART:20221030T010000
END:STANDARD
END:VTIMEZONE
BEGIN:VEVENT
DTSTART;VALUE=DATE:20210301
DTEND;VALUE=DATE:20210306
DTSTAMP:20260426T034450
CREATED:20210222T141302Z
LAST-MODIFIED:20210305T152859Z
UID:9789-1614556800-1614988799@grange-pri.cheshire.sch.uk
SUMMARY:Reading Week
DESCRIPTION:
URL:https://grange-pri.cheshire.sch.uk/event/reading-week/
END:VEVENT
BEGIN:VEVENT
DTSTART;VALUE=DATE:20210304
DTEND;VALUE=DATE:20210305
DTSTAMP:20260426T034450
CREATED:20210222T141302Z
LAST-MODIFIED:20210304T152800Z
UID:9787-1614816000-1614902399@grange-pri.cheshire.sch.uk
SUMMARY:'World Book Day' Theme Lunch
DESCRIPTION:
URL:https://grange-pri.cheshire.sch.uk/event/world-book-day-theme-lunch/
END:VEVENT
BEGIN:VEVENT
DTSTART;VALUE=DATE:20210304
DTEND;VALUE=DATE:20210305
DTSTAMP:20260426T034450
CREATED:20210222T141302Z
LAST-MODIFIED:20210304T152800Z
UID:9788-1614816000-1614902399@grange-pri.cheshire.sch.uk
SUMMARY:World Book Day
DESCRIPTION:
URL:https://grange-pri.cheshire.sch.uk/event/world-book-day/
END:VEVENT
END:VCALENDAR