BEGIN:VCALENDAR
VERSION:2.0
PRODID:-//Grange Community Nursery and Primary School - ECPv6.15.20//NONSGML v1.0//EN
CALSCALE:GREGORIAN
METHOD:PUBLISH
X-WR-CALNAME:Grange Community Nursery and Primary School
X-ORIGINAL-URL:https://grange-pri.cheshire.sch.uk
X-WR-CALDESC:Events for Grange Community Nursery and Primary School
REFRESH-INTERVAL;VALUE=DURATION:PT1H
X-Robots-Tag:noindex
X-PUBLISHED-TTL:PT1H
BEGIN:VTIMEZONE
TZID:Europe/London
BEGIN:DAYLIGHT
TZOFFSETFROM:+0000
TZOFFSETTO:+0100
TZNAME:BST
DTSTART:20200329T010000
END:DAYLIGHT
BEGIN:STANDARD
TZOFFSETFROM:+0100
TZOFFSETTO:+0000
TZNAME:GMT
DTSTART:20201025T010000
END:STANDARD
BEGIN:DAYLIGHT
TZOFFSETFROM:+0000
TZOFFSETTO:+0100
TZNAME:BST
DTSTART:20210328T010000
END:DAYLIGHT
BEGIN:STANDARD
TZOFFSETFROM:+0100
TZOFFSETTO:+0000
TZNAME:GMT
DTSTART:20211031T010000
END:STANDARD
BEGIN:DAYLIGHT
TZOFFSETFROM:+0000
TZOFFSETTO:+0100
TZNAME:BST
DTSTART:20220327T010000
END:DAYLIGHT
BEGIN:STANDARD
TZOFFSETFROM:+0100
TZOFFSETTO:+0000
TZNAME:GMT
DTSTART:20221030T010000
END:STANDARD
END:VTIMEZONE
BEGIN:VEVENT
DTSTART;VALUE=DATE:20210505
DTEND;VALUE=DATE:20210506
DTSTAMP:20260426T015025
CREATED:20210405T195508Z
LAST-MODIFIED:20210505T234707Z
UID:9878-1620172800-1620259199@grange-pri.cheshire.sch.uk
SUMMARY:Y6 & Reception Class Photographs
DESCRIPTION:
URL:https://grange-pri.cheshire.sch.uk/event/y6-reception-class-photographs/
END:VEVENT
BEGIN:VEVENT
DTSTART;VALUE=DATE:20210507
DTEND;VALUE=DATE:20210508
DTSTAMP:20260426T015025
CREATED:20210407T195649Z
LAST-MODIFIED:20210506T234323Z
UID:9882-1620345600-1620431999@grange-pri.cheshire.sch.uk
SUMMARY:VE Day Celebration
DESCRIPTION:
URL:https://grange-pri.cheshire.sch.uk/event/ve-day-celebration-2/
END:VEVENT
BEGIN:VEVENT
DTSTART;VALUE=DATE:20210510
DTEND;VALUE=DATE:20210514
DTSTAMP:20260426T015025
CREATED:20210410T204904Z
LAST-MODIFIED:20210513T004323Z
UID:9887-1620604800-1620950399@grange-pri.cheshire.sch.uk
SUMMARY:SATs Week
DESCRIPTION:
URL:https://grange-pri.cheshire.sch.uk/event/sats-week-2/
END:VEVENT
END:VCALENDAR