BEGIN:VCALENDAR
VERSION:2.0
PRODID:-//Grange Community Nursery and Primary School - ECPv6.15.20//NONSGML v1.0//EN
CALSCALE:GREGORIAN
METHOD:PUBLISH
X-WR-CALNAME:Grange Community Nursery and Primary School
X-ORIGINAL-URL:https://grange-pri.cheshire.sch.uk
X-WR-CALDESC:Events for Grange Community Nursery and Primary School
REFRESH-INTERVAL;VALUE=DURATION:PT1H
X-Robots-Tag:noindex
X-PUBLISHED-TTL:PT1H
BEGIN:VTIMEZONE
TZID:UTC
BEGIN:STANDARD
TZOFFSETFROM:+0000
TZOFFSETTO:+0000
TZNAME:UTC
DTSTART:20200101T000000
END:STANDARD
END:VTIMEZONE
BEGIN:VEVENT
DTSTART;TZID=UTC:20211214T100000
DTEND;TZID=UTC:20211214T110000
DTSTAMP:20260424T225251
CREATED:20210929T172354Z
LAST-MODIFIED:20210929T172537Z
UID:10394-1639476000-1639479600@grange-pri.cheshire.sch.uk
SUMMARY:KS1 Christmas Performance 10 am and 2pm
DESCRIPTION:
URL:https://grange-pri.cheshire.sch.uk/event/ks1-christmas-performance/2021-12-14/
END:VEVENT
BEGIN:VEVENT
DTSTART;TZID=UTC:20211215T140000
DTEND;TZID=UTC:20211215T190000
DTSTAMP:20260424T225251
CREATED:20210929T172848Z
LAST-MODIFIED:20210929T172848Z
UID:10398-1639576800-1639594800@grange-pri.cheshire.sch.uk
SUMMARY:KS2 Christmas Performances at 2pm and 6pm
DESCRIPTION:
URL:https://grange-pri.cheshire.sch.uk/event/ks2-christmas-performances-at-2pm-and-6pm/
END:VEVENT
BEGIN:VEVENT
DTSTART;VALUE=DATE:20211216
DTEND;VALUE=DATE:20211217
DTSTAMP:20260424T225251
CREATED:20211114T181812Z
LAST-MODIFIED:20211114T181812Z
UID:10571-1639612800-1639699199@grange-pri.cheshire.sch.uk
SUMMARY:Christmas Lunch and Party Afternoon
DESCRIPTION:
URL:https://grange-pri.cheshire.sch.uk/event/christmas-lunch-and-party-afternoon/
END:VEVENT
BEGIN:VEVENT
DTSTART;TZID=UTC:20211217T090000
DTEND;TZID=UTC:20211217T100000
DTSTAMP:20260424T225251
CREATED:20210929T173245Z
LAST-MODIFIED:20210929T173245Z
UID:10402-1639731600-1639735200@grange-pri.cheshire.sch.uk
SUMMARY:Carols around the Christmas tree
DESCRIPTION:
URL:https://grange-pri.cheshire.sch.uk/event/carols-around-the-christmas-tree/
END:VEVENT
BEGIN:VEVENT
DTSTART;TZID=UTC:20211217T153000
DTEND;TZID=UTC:20211217T153000
DTSTAMP:20260424T225251
CREATED:20210929T173432Z
LAST-MODIFIED:20210929T180844Z
UID:10404-1639755000-1639755000@grange-pri.cheshire.sch.uk
SUMMARY:School closes for Christmas
DESCRIPTION:
URL:https://grange-pri.cheshire.sch.uk/event/school-closes-for-christmas/
END:VEVENT
END:VCALENDAR