BEGIN:VCALENDAR
VERSION:2.0
PRODID:-//Grange Community Nursery and Primary School - ECPv6.15.20//NONSGML v1.0//EN
CALSCALE:GREGORIAN
METHOD:PUBLISH
X-ORIGINAL-URL:https://grange-pri.cheshire.sch.uk
X-WR-CALDESC:Events for Grange Community Nursery and Primary School
REFRESH-INTERVAL;VALUE=DURATION:PT1H
X-Robots-Tag:noindex
X-PUBLISHED-TTL:PT1H
BEGIN:VTIMEZONE
TZID:UTC
BEGIN:STANDARD
TZOFFSETFROM:+0000
TZOFFSETTO:+0000
TZNAME:UTC
DTSTART:20210101T000000
END:STANDARD
END:VTIMEZONE
BEGIN:VEVENT
DTSTART;VALUE=DATE:20220606
DTEND;VALUE=DATE:20220607
DTSTAMP:20260424T120847
CREATED:20220223T161950Z
LAST-MODIFIED:20220223T162009Z
UID:11096-1654473600-1654559999@grange-pri.cheshire.sch.uk
SUMMARY:Welcome back! - Summer Term 2 begins
DESCRIPTION:
URL:https://grange-pri.cheshire.sch.uk/event/welcome-back-summer-term-2/
END:VEVENT
BEGIN:VEVENT
DTSTART;VALUE=DATE:20220609
DTEND;VALUE=DATE:20220611
DTSTAMP:20260424T120847
CREATED:20220223T162111Z
LAST-MODIFIED:20220223T162111Z
UID:11099-1654732800-1654905599@grange-pri.cheshire.sch.uk
SUMMARY:Year 6 residential trip to London
DESCRIPTION:
URL:https://grange-pri.cheshire.sch.uk/event/year-6-residential-trip-to-london/
END:VEVENT
END:VCALENDAR