BEGIN:VCALENDAR
VERSION:2.0
PRODID:-//Grange Community Nursery and Primary School - ECPv6.15.20//NONSGML v1.0//EN
CALSCALE:GREGORIAN
METHOD:PUBLISH
X-ORIGINAL-URL:https://grange-pri.cheshire.sch.uk
X-WR-CALDESC:Events for Grange Community Nursery and Primary School
REFRESH-INTERVAL;VALUE=DURATION:PT1H
X-Robots-Tag:noindex
X-PUBLISHED-TTL:PT1H
BEGIN:VTIMEZONE
TZID:UTC
BEGIN:STANDARD
TZOFFSETFROM:+0000
TZOFFSETTO:+0000
TZNAME:UTC
DTSTART:20210101T000000
END:STANDARD
END:VTIMEZONE
BEGIN:VEVENT
DTSTART;VALUE=DATE:20220616
DTEND;VALUE=DATE:20220617
DTSTAMP:20260424T120926
CREATED:20220515T080904Z
LAST-MODIFIED:20220515T080904Z
UID:11263-1655337600-1655423999@grange-pri.cheshire.sch.uk
SUMMARY:Year 5 performance at The Halle
DESCRIPTION:
URL:https://grange-pri.cheshire.sch.uk/event/year-5-performance-at-the-halle/
END:VEVENT
BEGIN:VEVENT
DTSTART;VALUE=DATE:20220619
DTEND;VALUE=DATE:20220620
DTSTAMP:20260424T120926
CREATED:20220223T162557Z
LAST-MODIFIED:20220223T162557Z
UID:11103-1655596800-1655683199@grange-pri.cheshire.sch.uk
SUMMARY:Happy Father's/Carer's Day Xx
DESCRIPTION:
URL:https://grange-pri.cheshire.sch.uk/event/happy-fathers-carers-day-xx/
END:VEVENT
END:VCALENDAR