BEGIN:VCALENDAR
VERSION:2.0
PRODID:-//Grange Community Nursery and Primary School - ECPv6.15.20//NONSGML v1.0//EN
CALSCALE:GREGORIAN
METHOD:PUBLISH
X-ORIGINAL-URL:https://grange-pri.cheshire.sch.uk
X-WR-CALDESC:Events for Grange Community Nursery and Primary School
REFRESH-INTERVAL;VALUE=DURATION:PT1H
X-Robots-Tag:noindex
X-PUBLISHED-TTL:PT1H
BEGIN:VTIMEZONE
TZID:UTC
BEGIN:STANDARD
TZOFFSETFROM:+0000
TZOFFSETTO:+0000
TZNAME:UTC
DTSTART:20210101T000000
END:STANDARD
END:VTIMEZONE
BEGIN:VEVENT
DTSTART;VALUE=DATE:20220620
DTEND;VALUE=DATE:20220621
DTSTAMP:20260424T120932
CREATED:20220223T162720Z
LAST-MODIFIED:20220223T162720Z
UID:11105-1655683200-1655769599@grange-pri.cheshire.sch.uk
SUMMARY:World Refugee Day
DESCRIPTION:
URL:https://grange-pri.cheshire.sch.uk/event/world-refugee-day/
END:VEVENT
BEGIN:VEVENT
DTSTART;VALUE=DATE:20220623
DTEND;VALUE=DATE:20220624
DTSTAMP:20260424T120932
CREATED:20220515T080945Z
LAST-MODIFIED:20220515T080945Z
UID:11265-1655942400-1656028799@grange-pri.cheshire.sch.uk
SUMMARY:Sports Day
DESCRIPTION:
URL:https://grange-pri.cheshire.sch.uk/event/sports-day-4/
END:VEVENT
BEGIN:VEVENT
DTSTART;VALUE=DATE:20220624
DTEND;VALUE=DATE:20220625
DTSTAMP:20260424T120932
CREATED:20220515T081029Z
LAST-MODIFIED:20220515T081029Z
UID:11267-1656028800-1656115199@grange-pri.cheshire.sch.uk
SUMMARY:Inspire Day
DESCRIPTION:
URL:https://grange-pri.cheshire.sch.uk/event/inspire-day-3/
END:VEVENT
BEGIN:VEVENT
DTSTART;VALUE=DATE:20220625
DTEND;VALUE=DATE:20220626
DTSTAMP:20260424T120932
CREATED:20220515T081116Z
LAST-MODIFIED:20220515T081116Z
UID:11269-1656115200-1656201599@grange-pri.cheshire.sch.uk
SUMMARY:Delamere Street Festival
DESCRIPTION:
URL:https://grange-pri.cheshire.sch.uk/event/delamere-street-festival/
END:VEVENT
END:VCALENDAR