BEGIN:VCALENDAR
VERSION:2.0
PRODID:-//Grange Community Nursery and Primary School - ECPv6.15.20//NONSGML v1.0//EN
CALSCALE:GREGORIAN
METHOD:PUBLISH
X-ORIGINAL-URL:https://grange-pri.cheshire.sch.uk
X-WR-CALDESC:Events for Grange Community Nursery and Primary School
REFRESH-INTERVAL;VALUE=DURATION:PT1H
X-Robots-Tag:noindex
X-PUBLISHED-TTL:PT1H
BEGIN:VTIMEZONE
TZID:UTC
BEGIN:STANDARD
TZOFFSETFROM:+0000
TZOFFSETTO:+0000
TZNAME:UTC
DTSTART:20220101T000000
END:STANDARD
END:VTIMEZONE
BEGIN:VEVENT
DTSTART;VALUE=DATE:20230227
DTEND;VALUE=DATE:20230228
DTSTAMP:20260421T083613
CREATED:20221015T191917Z
LAST-MODIFIED:20221015T191917Z
UID:11724-1677456000-1677542399@grange-pri.cheshire.sch.uk
SUMMARY:Children Return to School
DESCRIPTION:
URL:https://grange-pri.cheshire.sch.uk/event/children-return-to-school-2/
END:VEVENT
BEGIN:VEVENT
DTSTART;VALUE=DATE:20230302
DTEND;VALUE=DATE:20230303
DTSTAMP:20260421T083613
CREATED:20221015T192006Z
LAST-MODIFIED:20221015T192006Z
UID:11726-1677715200-1677801599@grange-pri.cheshire.sch.uk
SUMMARY:World Book Day
DESCRIPTION:
URL:https://grange-pri.cheshire.sch.uk/event/world-book-day-2/
END:VEVENT
END:VCALENDAR