BEGIN:VCALENDAR
VERSION:2.0
PRODID:-//Grange Community Nursery and Primary School - ECPv6.15.20//NONSGML v1.0//EN
CALSCALE:GREGORIAN
METHOD:PUBLISH
X-ORIGINAL-URL:https://grange-pri.cheshire.sch.uk
X-WR-CALDESC:Events for Grange Community Nursery and Primary School
REFRESH-INTERVAL;VALUE=DURATION:PT1H
X-Robots-Tag:noindex
X-PUBLISHED-TTL:PT1H
BEGIN:VTIMEZONE
TZID:UTC
BEGIN:STANDARD
TZOFFSETFROM:+0000
TZOFFSETTO:+0000
TZNAME:UTC
DTSTART:20220101T000000
END:STANDARD
END:VTIMEZONE
BEGIN:VEVENT
DTSTART;VALUE=DATE:20230619
DTEND;VALUE=DATE:20230624
DTSTAMP:20260422T070043
CREATED:20230515T115547Z
LAST-MODIFIED:20230515T115547Z
UID:12584-1687132800-1687564799@grange-pri.cheshire.sch.uk
SUMMARY:School Sports Week
DESCRIPTION:
URL:https://grange-pri.cheshire.sch.uk/event/school-sports-week/
END:VEVENT
BEGIN:VEVENT
DTSTART;VALUE=DATE:20230619
DTEND;VALUE=DATE:20230620
DTSTAMP:20260422T070043
CREATED:20230515T123345Z
LAST-MODIFIED:20230515T123345Z
UID:12586-1687132800-1687219199@grange-pri.cheshire.sch.uk
SUMMARY:Ukulele Performance
DESCRIPTION:
URL:https://grange-pri.cheshire.sch.uk/event/ukulele-performance/
END:VEVENT
BEGIN:VEVENT
DTSTART;TZID=UTC:20230620T153000
DTEND;TZID=UTC:20230620T170000
DTSTAMP:20260422T070043
CREATED:20230515T123844Z
LAST-MODIFIED:20230515T123844Z
UID:12588-1687275000-1687280400@grange-pri.cheshire.sch.uk
SUMMARY:Football Shooting Stars
DESCRIPTION:
URL:https://grange-pri.cheshire.sch.uk/event/football-shooting-stars/
END:VEVENT
BEGIN:VEVENT
DTSTART;TZID=UTC:20230620T153000
DTEND;TZID=UTC:20230620T170000
DTSTAMP:20260422T070043
CREATED:20230515T124343Z
LAST-MODIFIED:20230515T124343Z
UID:12590-1687275000-1687280400@grange-pri.cheshire.sch.uk
SUMMARY:New Reception parents welcome evening
DESCRIPTION:
URL:https://grange-pri.cheshire.sch.uk/event/new-reception-parents-welcome-evening/
END:VEVENT
BEGIN:VEVENT
DTSTART;TZID=UTC:20230621T213000
DTEND;TZID=UTC:20230621T233000
DTSTAMP:20260422T070043
CREATED:20230515T124806Z
LAST-MODIFIED:20230621T070006Z
UID:12592-1687383000-1687390200@grange-pri.cheshire.sch.uk
SUMMARY:Sports Day
DESCRIPTION:
URL:https://grange-pri.cheshire.sch.uk/event/sports-day-5/
END:VEVENT
BEGIN:VEVENT
DTSTART;VALUE=DATE:20230622
DTEND;VALUE=DATE:20230623
DTSTAMP:20260422T070043
CREATED:20230515T124931Z
LAST-MODIFIED:20230515T124931Z
UID:12594-1687392000-1687478399@grange-pri.cheshire.sch.uk
SUMMARY:Winsford Town Athletics
DESCRIPTION:
URL:https://grange-pri.cheshire.sch.uk/event/winsford-town-athletics/
END:VEVENT
BEGIN:VEVENT
DTSTART;VALUE=DATE:20230623
DTEND;VALUE=DATE:20230624
DTSTAMP:20260422T070043
CREATED:20221015T193313Z
LAST-MODIFIED:20221015T193313Z
UID:11750-1687478400-1687564799@grange-pri.cheshire.sch.uk
SUMMARY:Inset Day-School Closed
DESCRIPTION:
URL:https://grange-pri.cheshire.sch.uk/event/inset-day-school-closed/
END:VEVENT
BEGIN:VEVENT
DTSTART;VALUE=DATE:20230624
DTEND;VALUE=DATE:20230625
DTSTAMP:20260422T070043
CREATED:20230515T125755Z
LAST-MODIFIED:20230515T125755Z
UID:12596-1687564800-1687651199@grange-pri.cheshire.sch.uk
SUMMARY:Delamere Street Festival
DESCRIPTION:
URL:https://grange-pri.cheshire.sch.uk/event/delamere-street-festival-2/
END:VEVENT
END:VCALENDAR