BEGIN:VCALENDAR
VERSION:2.0
PRODID:-//Grange Community Nursery and Primary School - ECPv6.15.20//NONSGML v1.0//EN
CALSCALE:GREGORIAN
METHOD:PUBLISH
X-ORIGINAL-URL:https://grange-pri.cheshire.sch.uk
X-WR-CALDESC:Events for Grange Community Nursery and Primary School
REFRESH-INTERVAL;VALUE=DURATION:PT1H
X-Robots-Tag:noindex
X-PUBLISHED-TTL:PT1H
BEGIN:VTIMEZONE
TZID:UTC
BEGIN:STANDARD
TZOFFSETFROM:+0000
TZOFFSETTO:+0000
TZNAME:UTC
DTSTART:20220101T000000
END:STANDARD
END:VTIMEZONE
BEGIN:VEVENT
DTSTART;TZID=UTC:20230718T140000
DTEND;TZID=UTC:20230718T150000
DTSTAMP:20260422T104003
CREATED:20221015T193544Z
LAST-MODIFIED:20230516T070249Z
UID:11754-1689688800-1689692400@grange-pri.cheshire.sch.uk
SUMMARY:Year 6 End of Year Performance 2pm & 4:30pm
DESCRIPTION:
URL:https://grange-pri.cheshire.sch.uk/event/year-6-end-of-year-performance-2pm-430pm/
END:VEVENT
BEGIN:VEVENT
DTSTART;TZID=UTC:20230719T163000
DTEND;TZID=UTC:20230719T180000
DTSTAMP:20260422T104003
CREATED:20230516T070555Z
LAST-MODIFIED:20230516T070555Z
UID:12604-1689784200-1689789600@grange-pri.cheshire.sch.uk
SUMMARY:Year 6 Leavers' Disco
DESCRIPTION:
URL:https://grange-pri.cheshire.sch.uk/event/year-6-leavers-disco/
END:VEVENT
BEGIN:VEVENT
DTSTART;VALUE=DATE:20230720
DTEND;VALUE=DATE:20230721
DTSTAMP:20260422T104003
CREATED:20221028T134655Z
LAST-MODIFIED:20221028T134655Z
UID:12006-1689811200-1689897599@grange-pri.cheshire.sch.uk
SUMMARY:School Closes
DESCRIPTION:
URL:https://grange-pri.cheshire.sch.uk/event/school-closes-4/
END:VEVENT
BEGIN:VEVENT
DTSTART;TZID=UTC:20230720T123000
DTEND;TZID=UTC:20230720T133000
DTSTAMP:20260422T104003
CREATED:20221015T193658Z
LAST-MODIFIED:20221015T193658Z
UID:11756-1689856200-1689859800@grange-pri.cheshire.sch.uk
SUMMARY:Year 6 Leavers Lunch
DESCRIPTION:
URL:https://grange-pri.cheshire.sch.uk/event/year-6-leavers-lunch/
END:VEVENT
BEGIN:VEVENT
DTSTART;TZID=UTC:20230720T140000
DTEND;TZID=UTC:20230720T160000
DTSTAMP:20260422T104003
CREATED:20221015T193808Z
LAST-MODIFIED:20230516T070407Z
UID:11758-1689861600-1689868800@grange-pri.cheshire.sch.uk
SUMMARY:Year 6 Leavers' Assembly
DESCRIPTION:
URL:https://grange-pri.cheshire.sch.uk/event/year-6-leavers-assembly/
END:VEVENT
BEGIN:VEVENT
DTSTART;VALUE=DATE:20230721
DTEND;VALUE=DATE:20230722
DTSTAMP:20260422T104003
CREATED:20221015T193903Z
LAST-MODIFIED:20221018T065746Z
UID:11760-1689897600-1689983999@grange-pri.cheshire.sch.uk
SUMMARY:School Closed-Inset Day
DESCRIPTION:
URL:https://grange-pri.cheshire.sch.uk/event/school-closes-for-summer/
END:VEVENT
END:VCALENDAR