BEGIN:VCALENDAR
VERSION:2.0
PRODID:-//Grange Community Nursery and Primary School - ECPv6.15.20//NONSGML v1.0//EN
CALSCALE:GREGORIAN
METHOD:PUBLISH
X-ORIGINAL-URL:https://grange-pri.cheshire.sch.uk
X-WR-CALDESC:Events for Grange Community Nursery and Primary School
REFRESH-INTERVAL;VALUE=DURATION:PT1H
X-Robots-Tag:noindex
X-PUBLISHED-TTL:PT1H
BEGIN:VTIMEZONE
TZID:UTC
BEGIN:STANDARD
TZOFFSETFROM:+0000
TZOFFSETTO:+0000
TZNAME:UTC
DTSTART:20220101T000000
END:STANDARD
END:VTIMEZONE
BEGIN:VEVENT
DTSTART;TZID=UTC:20231122T123000
DTEND;TZID=UTC:20231122T130000
DTSTAMP:20260421T225804
CREATED:20230905T113029Z
LAST-MODIFIED:20230905T113029Z
UID:12943-1700656200-1700658000@grange-pri.cheshire.sch.uk
SUMMARY:Y3 Family Lunch
DESCRIPTION:
URL:https://grange-pri.cheshire.sch.uk/event/y3-family-lunch/
END:VEVENT
END:VCALENDAR