BEGIN:VCALENDAR
VERSION:2.0
PRODID:-//Grange Community Nursery and Primary School - ECPv6.15.20//NONSGML v1.0//EN
CALSCALE:GREGORIAN
METHOD:PUBLISH
X-WR-CALNAME:Grange Community Nursery and Primary School
X-ORIGINAL-URL:https://grange-pri.cheshire.sch.uk
X-WR-CALDESC:Events for Grange Community Nursery and Primary School
REFRESH-INTERVAL;VALUE=DURATION:PT1H
X-Robots-Tag:noindex
X-PUBLISHED-TTL:PT1H
BEGIN:VTIMEZONE
TZID:UTC
BEGIN:STANDARD
TZOFFSETFROM:+0000
TZOFFSETTO:+0000
TZNAME:UTC
DTSTART:20230101T000000
END:STANDARD
END:VTIMEZONE
BEGIN:VEVENT
DTSTART;VALUE=DATE:20240108
DTEND;VALUE=DATE:20240109
DTSTAMP:20260422T010243
CREATED:20230905T123728Z
LAST-MODIFIED:20230905T123728Z
UID:12961-1704672000-1704758399@grange-pri.cheshire.sch.uk
SUMMARY:INSET Day
DESCRIPTION:
URL:https://grange-pri.cheshire.sch.uk/event/inset-day-2/
END:VEVENT
BEGIN:VEVENT
DTSTART;VALUE=DATE:20240109
DTEND;VALUE=DATE:20240110
DTSTAMP:20260422T010243
CREATED:20230905T123855Z
LAST-MODIFIED:20230905T123855Z
UID:12963-1704758400-1704844799@grange-pri.cheshire.sch.uk
SUMMARY:Return to School
DESCRIPTION:
URL:https://grange-pri.cheshire.sch.uk/event/return-to-school-10/
END:VEVENT
BEGIN:VEVENT
DTSTART;VALUE=DATE:20240111
DTEND;VALUE=DATE:20240112
DTSTAMP:20260422T010243
CREATED:20230905T124157Z
LAST-MODIFIED:20230905T124157Z
UID:12965-1704931200-1705017599@grange-pri.cheshire.sch.uk
SUMMARY:Open Afternoon for Prospective Parents
DESCRIPTION:
URL:https://grange-pri.cheshire.sch.uk/event/open-afternoon-for-prospective-parents/
END:VEVENT
END:VCALENDAR