BEGIN:VCALENDAR
VERSION:2.0
PRODID:-//Grange Community Nursery and Primary School - ECPv6.15.20//NONSGML v1.0//EN
CALSCALE:GREGORIAN
METHOD:PUBLISH
X-WR-CALNAME:Grange Community Nursery and Primary School
X-ORIGINAL-URL:https://grange-pri.cheshire.sch.uk
X-WR-CALDESC:Events for Grange Community Nursery and Primary School
REFRESH-INTERVAL;VALUE=DURATION:PT1H
X-Robots-Tag:noindex
X-PUBLISHED-TTL:PT1H
BEGIN:VTIMEZONE
TZID:UTC
BEGIN:STANDARD
TZOFFSETFROM:+0000
TZOFFSETTO:+0000
TZNAME:UTC
DTSTART:20230101T000000
END:STANDARD
END:VTIMEZONE
BEGIN:VEVENT
DTSTART;VALUE=DATE:20240115
DTEND;VALUE=DATE:20240116
DTSTAMP:20260422T010250
CREATED:20230905T124345Z
LAST-MODIFIED:20230905T124345Z
UID:12967-1705276800-1705363199@grange-pri.cheshire.sch.uk
SUMMARY:Closing Date for Reception Place Applications
DESCRIPTION:
URL:https://grange-pri.cheshire.sch.uk/event/closing-date-for-reception-place-applications/
END:VEVENT
BEGIN:VEVENT
DTSTART;VALUE=DATE:20240117
DTEND;VALUE=DATE:20240118
DTSTAMP:20260422T010250
CREATED:20230905T124524Z
LAST-MODIFIED:20230905T153123Z
UID:12969-1705449600-1705535999@grange-pri.cheshire.sch.uk
SUMMARY:Y1 Family Lunch
DESCRIPTION:
URL:https://grange-pri.cheshire.sch.uk/event/y1-family-lunch/
END:VEVENT
BEGIN:VEVENT
DTSTART;VALUE=DATE:20240119
DTEND;VALUE=DATE:20240120
DTSTAMP:20260422T010250
CREATED:20230905T124605Z
LAST-MODIFIED:20230905T124605Z
UID:12971-1705622400-1705708799@grange-pri.cheshire.sch.uk
SUMMARY:Curriculum Afternoon
DESCRIPTION:
URL:https://grange-pri.cheshire.sch.uk/event/curriculum-afternoon-2/
END:VEVENT
END:VCALENDAR