BEGIN:VCALENDAR
VERSION:2.0
PRODID:-//Grange Community Nursery and Primary School - ECPv6.15.20//NONSGML v1.0//EN
CALSCALE:GREGORIAN
METHOD:PUBLISH
X-ORIGINAL-URL:https://grange-pri.cheshire.sch.uk
X-WR-CALDESC:Events for Grange Community Nursery and Primary School
REFRESH-INTERVAL;VALUE=DURATION:PT1H
X-Robots-Tag:noindex
X-PUBLISHED-TTL:PT1H
BEGIN:VTIMEZONE
TZID:UTC
BEGIN:STANDARD
TZOFFSETFROM:+0000
TZOFFSETTO:+0000
TZNAME:UTC
DTSTART:20230101T000000
END:STANDARD
END:VTIMEZONE
BEGIN:VEVENT
DTSTART;TZID=UTC:20240214T120000
DTEND;TZID=UTC:20240214T130000
DTSTAMP:20260421T210433
CREATED:20230905T130004Z
LAST-MODIFIED:20230905T130004Z
UID:12983-1707912000-1707915600@grange-pri.cheshire.sch.uk
SUMMARY:Nursery Family Lunch
DESCRIPTION:
URL:https://grange-pri.cheshire.sch.uk/event/nursery-family-lunch/
END:VEVENT
BEGIN:VEVENT
DTSTART;TZID=UTC:20240216T153000
DTEND;TZID=UTC:20240216T153000
DTSTAMP:20260421T210433
CREATED:20230905T130857Z
LAST-MODIFIED:20230905T130857Z
UID:12987-1708097400-1708097400@grange-pri.cheshire.sch.uk
SUMMARY:Break Up for Half Term
DESCRIPTION:
URL:https://grange-pri.cheshire.sch.uk/event/break-up-for-half-term-2/
END:VEVENT
END:VCALENDAR