BEGIN:VCALENDAR
VERSION:2.0
PRODID:-//Grange Community Nursery and Primary School - ECPv6.15.20//NONSGML v1.0//EN
CALSCALE:GREGORIAN
METHOD:PUBLISH
X-WR-CALNAME:Grange Community Nursery and Primary School
X-ORIGINAL-URL:https://grange-pri.cheshire.sch.uk
X-WR-CALDESC:Events for Grange Community Nursery and Primary School
REFRESH-INTERVAL;VALUE=DURATION:PT1H
X-Robots-Tag:noindex
X-PUBLISHED-TTL:PT1H
BEGIN:VTIMEZONE
TZID:UTC
BEGIN:STANDARD
TZOFFSETFROM:+0000
TZOFFSETTO:+0000
TZNAME:UTC
DTSTART:20230101T000000
END:STANDARD
END:VTIMEZONE
BEGIN:VEVENT
DTSTART;TZID=UTC:20240304T153000
DTEND;TZID=UTC:20240304T160000
DTSTAMP:20260421T171942
CREATED:20230905T131846Z
LAST-MODIFIED:20230905T131846Z
UID:12995-1709566200-1709568000@grange-pri.cheshire.sch.uk
SUMMARY:Year 6 SATs Meeting for Parents
DESCRIPTION:
URL:https://grange-pri.cheshire.sch.uk/event/year-6-sats-meeting-for-parents/
END:VEVENT
BEGIN:VEVENT
DTSTART;TZID=UTC:20240305T153000
DTEND;TZID=UTC:20240305T160000
DTSTAMP:20260421T171942
CREATED:20230905T132313Z
LAST-MODIFIED:20230905T132313Z
UID:12997-1709652600-1709654400@grange-pri.cheshire.sch.uk
SUMMARY:Y2 SATs Meeting for Parents
DESCRIPTION:
URL:https://grange-pri.cheshire.sch.uk/event/y2-sats-meeting-for-parents/
END:VEVENT
BEGIN:VEVENT
DTSTART;TZID=UTC:20240306T153000
DTEND;TZID=UTC:20240306T160000
DTSTAMP:20260421T171942
CREATED:20230905T132609Z
LAST-MODIFIED:20230905T132609Z
UID:12999-1709739000-1709740800@grange-pri.cheshire.sch.uk
SUMMARY:Phonics Screening Meeting for Parents
DESCRIPTION:
URL:https://grange-pri.cheshire.sch.uk/event/phonics-screening-meeting-for-parents/
END:VEVENT
BEGIN:VEVENT
DTSTART;TZID=UTC:20240307T153000
DTEND;TZID=UTC:20240307T160000
DTSTAMP:20260421T171942
CREATED:20230905T132826Z
LAST-MODIFIED:20230905T132826Z
UID:13001-1709825400-1709827200@grange-pri.cheshire.sch.uk
SUMMARY:Multiplication Checker Meeting for Parents
DESCRIPTION:
URL:https://grange-pri.cheshire.sch.uk/event/multiplication-checker-meeting-for-parents/
END:VEVENT
BEGIN:VEVENT
DTSTART;VALUE=DATE:20240308
DTEND;VALUE=DATE:20240309
DTSTAMP:20260421T171942
CREATED:20230905T133001Z
LAST-MODIFIED:20230905T133001Z
UID:13003-1709856000-1709942399@grange-pri.cheshire.sch.uk
SUMMARY:International Women's Day
DESCRIPTION:
URL:https://grange-pri.cheshire.sch.uk/event/international-womens-day-3/
END:VEVENT
BEGIN:VEVENT
DTSTART;VALUE=DATE:20240308
DTEND;VALUE=DATE:20240318
DTSTAMP:20260421T171942
CREATED:20230905T133118Z
LAST-MODIFIED:20230905T133118Z
UID:13006-1709856000-1710719999@grange-pri.cheshire.sch.uk
SUMMARY:Science Week
DESCRIPTION:
URL:https://grange-pri.cheshire.sch.uk/event/science-week-3/
END:VEVENT
BEGIN:VEVENT
DTSTART;TZID=UTC:20240308T090000
DTEND;TZID=UTC:20240308T093000
DTSTAMP:20260421T171942
CREATED:20230905T133236Z
LAST-MODIFIED:20230905T133236Z
UID:13008-1709888400-1709890200@grange-pri.cheshire.sch.uk
SUMMARY:Mothers' Day Assembly
DESCRIPTION:
URL:https://grange-pri.cheshire.sch.uk/event/mothers-day-assembly/
END:VEVENT
END:VCALENDAR