BEGIN:VCALENDAR
VERSION:2.0
PRODID:-//Grange Community Nursery and Primary School - ECPv6.15.20//NONSGML v1.0//EN
CALSCALE:GREGORIAN
METHOD:PUBLISH
X-WR-CALNAME:Grange Community Nursery and Primary School
X-ORIGINAL-URL:https://grange-pri.cheshire.sch.uk
X-WR-CALDESC:Events for Grange Community Nursery and Primary School
REFRESH-INTERVAL;VALUE=DURATION:PT1H
X-Robots-Tag:noindex
X-PUBLISHED-TTL:PT1H
BEGIN:VTIMEZONE
TZID:UTC
BEGIN:STANDARD
TZOFFSETFROM:+0000
TZOFFSETTO:+0000
TZNAME:UTC
DTSTART:20230101T000000
END:STANDARD
END:VTIMEZONE
BEGIN:VEVENT
DTSTART;VALUE=DATE:20241111
DTEND;VALUE=DATE:20241116
DTSTAMP:20260420T065945
CREATED:20240907T071608Z
LAST-MODIFIED:20240907T071608Z
UID:14434-1731283200-1731715199@grange-pri.cheshire.sch.uk
SUMMARY:Anti-Bullying Week
DESCRIPTION:
URL:https://grange-pri.cheshire.sch.uk/event/anti-bullying-week-4/
END:VEVENT
BEGIN:VEVENT
DTSTART;VALUE=DATE:20241112
DTEND;VALUE=DATE:20241113
DTSTAMP:20260420T065945
CREATED:20240907T071702Z
LAST-MODIFIED:20240907T071737Z
UID:14436-1731369600-1731455999@grange-pri.cheshire.sch.uk
SUMMARY:Odd Socks Day
DESCRIPTION:
URL:https://grange-pri.cheshire.sch.uk/event/odd-socks-day-6/
END:VEVENT
BEGIN:VEVENT
DTSTART;VALUE=DATE:20241114
DTEND;VALUE=DATE:20241115
DTSTAMP:20260420T065945
CREATED:20240907T071816Z
LAST-MODIFIED:20240907T071816Z
UID:14438-1731542400-1731628799@grange-pri.cheshire.sch.uk
SUMMARY:Flu Vaccinations
DESCRIPTION:
URL:https://grange-pri.cheshire.sch.uk/event/flu-vaccinations/
END:VEVENT
BEGIN:VEVENT
DTSTART;VALUE=DATE:20241115
DTEND;VALUE=DATE:20241116
DTSTAMP:20260420T065945
CREATED:20240907T071929Z
LAST-MODIFIED:20240907T071929Z
UID:14441-1731628800-1731715199@grange-pri.cheshire.sch.uk
SUMMARY:Children in Need
DESCRIPTION:
URL:https://grange-pri.cheshire.sch.uk/event/children-in-need-2/
END:VEVENT
END:VCALENDAR