BEGIN:VCALENDAR
VERSION:2.0
PRODID:-//Grange Community Nursery and Primary School - ECPv6.15.20//NONSGML v1.0//EN
CALSCALE:GREGORIAN
METHOD:PUBLISH
X-ORIGINAL-URL:https://grange-pri.cheshire.sch.uk
X-WR-CALDESC:Events for Grange Community Nursery and Primary School
REFRESH-INTERVAL;VALUE=DURATION:PT1H
X-Robots-Tag:noindex
X-PUBLISHED-TTL:PT1H
BEGIN:VTIMEZONE
TZID:UTC
BEGIN:STANDARD
TZOFFSETFROM:+0000
TZOFFSETTO:+0000
TZNAME:UTC
DTSTART:20240101T000000
END:STANDARD
END:VTIMEZONE
BEGIN:VEVENT
DTSTART;VALUE=DATE:20250321
DTEND;VALUE=DATE:20250322
DTSTAMP:20260420T040048
CREATED:20240907T074618Z
LAST-MODIFIED:20250320T080712Z
UID:14489-1742515200-1742601599@grange-pri.cheshire.sch.uk
SUMMARY:Comic Relief
DESCRIPTION:
URL:https://grange-pri.cheshire.sch.uk/event/comic-relief-2/
END:VEVENT
BEGIN:VEVENT
DTSTART;VALUE=DATE:20250321
DTEND;VALUE=DATE:20250322
DTSTAMP:20260420T040048
CREATED:20240907T074713Z
LAST-MODIFIED:20240907T074713Z
UID:14491-1742515200-1742601599@grange-pri.cheshire.sch.uk
SUMMARY:World Poetry Day
DESCRIPTION:
URL:https://grange-pri.cheshire.sch.uk/event/world-poetry-day-4/
END:VEVENT
END:VCALENDAR