BEGIN:VCALENDAR
VERSION:2.0
PRODID:-//Grange Community Nursery and Primary School - ECPv6.15.20//NONSGML v1.0//EN
CALSCALE:GREGORIAN
METHOD:PUBLISH
X-ORIGINAL-URL:https://grange-pri.cheshire.sch.uk
X-WR-CALDESC:Events for Grange Community Nursery and Primary School
REFRESH-INTERVAL;VALUE=DURATION:PT1H
X-Robots-Tag:noindex
X-PUBLISHED-TTL:PT1H
BEGIN:VTIMEZONE
TZID:UTC
BEGIN:STANDARD
TZOFFSETFROM:+0000
TZOFFSETTO:+0000
TZNAME:UTC
DTSTART:20240101T000000
END:STANDARD
END:VTIMEZONE
BEGIN:VEVENT
DTSTART;TZID=UTC:20250512T080000
DTEND;TZID=UTC:20250515T170000
DTSTAMP:20260420T040000
CREATED:20240907T075527Z
LAST-MODIFIED:20240907T075527Z
UID:14505-1747036800-1747328400@grange-pri.cheshire.sch.uk
SUMMARY:Y6 SATs Week
DESCRIPTION:
URL:https://grange-pri.cheshire.sch.uk/event/y6-sats-week-2/
END:VEVENT
BEGIN:VEVENT
DTSTART;VALUE=DATE:20250516
DTEND;VALUE=DATE:20250517
DTSTAMP:20260420T040000
CREATED:20240907T075627Z
LAST-MODIFIED:20240907T075627Z
UID:14507-1747353600-1747439999@grange-pri.cheshire.sch.uk
SUMMARY:Y6 Celebration Day
DESCRIPTION:
URL:https://grange-pri.cheshire.sch.uk/event/y6-celebration-day-2/
END:VEVENT
END:VCALENDAR