BEGIN:VCALENDAR
VERSION:2.0
PRODID:-//Grange Community Nursery and Primary School - ECPv6.15.20//NONSGML v1.0//EN
CALSCALE:GREGORIAN
METHOD:PUBLISH
X-WR-CALNAME:Grange Community Nursery and Primary School
X-ORIGINAL-URL:https://grange-pri.cheshire.sch.uk
X-WR-CALDESC:Events for Grange Community Nursery and Primary School
REFRESH-INTERVAL;VALUE=DURATION:PT1H
X-Robots-Tag:noindex
X-PUBLISHED-TTL:PT1H
BEGIN:VTIMEZONE
TZID:UTC
BEGIN:STANDARD
TZOFFSETFROM:+0000
TZOFFSETTO:+0000
TZNAME:UTC
DTSTART:20240101T000000
END:STANDARD
END:VTIMEZONE
BEGIN:VEVENT
DTSTART;VALUE=DATE:20250522
DTEND;VALUE=DATE:20250524
DTSTAMP:20260420T054104
CREATED:20240907T075733Z
LAST-MODIFIED:20240907T075733Z
UID:14509-1747872000-1748044799@grange-pri.cheshire.sch.uk
SUMMARY:Y3/Y4 residential to Gulliver's World
DESCRIPTION:
URL:https://grange-pri.cheshire.sch.uk/event/y3-y4-residential-to-gullivers-world/
END:VEVENT
BEGIN:VEVENT
DTSTART;VALUE=DATE:20250523
DTEND;VALUE=DATE:20250524
DTSTAMP:20260420T054104
CREATED:20240907T075816Z
LAST-MODIFIED:20240907T075816Z
UID:14511-1747958400-1748044799@grange-pri.cheshire.sch.uk
SUMMARY:Dress Down Day
DESCRIPTION:
URL:https://grange-pri.cheshire.sch.uk/event/dress-down-day-3/
END:VEVENT
BEGIN:VEVENT
DTSTART;VALUE=DATE:20250523
DTEND;VALUE=DATE:20250524
DTSTAMP:20260420T054104
CREATED:20240907T075857Z
LAST-MODIFIED:20240907T075857Z
UID:14513-1747958400-1748044799@grange-pri.cheshire.sch.uk
SUMMARY:School closes
DESCRIPTION:
URL:https://grange-pri.cheshire.sch.uk/event/school-closes/
END:VEVENT
END:VCALENDAR