BEGIN:VCALENDAR
VERSION:2.0
PRODID:-//Grange Community Nursery and Primary School - ECPv6.15.20//NONSGML v1.0//EN
CALSCALE:GREGORIAN
METHOD:PUBLISH
X-ORIGINAL-URL:https://grange-pri.cheshire.sch.uk
X-WR-CALDESC:Events for Grange Community Nursery and Primary School
REFRESH-INTERVAL;VALUE=DURATION:PT1H
X-Robots-Tag:noindex
X-PUBLISHED-TTL:PT1H
BEGIN:VTIMEZONE
TZID:UTC
BEGIN:STANDARD
TZOFFSETFROM:+0000
TZOFFSETTO:+0000
TZNAME:UTC
DTSTART:20240101T000000
END:STANDARD
END:VTIMEZONE
BEGIN:VEVENT
DTSTART;TZID=UTC:20250602T080000
DTEND;TZID=UTC:20250602T170000
DTSTAMP:20260420T072659
CREATED:20240907T080018Z
LAST-MODIFIED:20240907T080018Z
UID:14515-1748851200-1748883600@grange-pri.cheshire.sch.uk
SUMMARY:Return to School - Summer Term 2
DESCRIPTION:
URL:https://grange-pri.cheshire.sch.uk/event/return-to-school-summer-term-2/
END:VEVENT
END:VCALENDAR